Workbook
Name _: '[4]For Excel'!#REF!
Name _: '[4]For Excel'!#REF!
Name _: '[4]For Excel'!#REF!
Name __: '[4]For Excel'!#REF!
Name __: '[4]For Excel'!#REF!
Name __: '[4]For Excel'!#REF!
Name ___: '[4]For Excel'!#REF!
Name ___: '[4]For Excel'!#REF!
Name ___: '[4]For Excel'!#REF!
Name ______________FEb1: '[5]PL PBC'!#REF!
Name ______________FEb1: '[5]PL PBC'!#REF!
Name ______________FEb1: '[5]PL PBC'!#REF!
Name ______________FEb1: '[5]PL PBC'!#REF!
Name ______________ist1: '[5]PL PBC'!#REF!
Name ______________ist1: '[5]PL PBC'!#REF!
Name ______________ist1: '[5]PL PBC'!#REF!
Name ______________ist1: '[5]PL PBC'!#REF!
Name ______________TB1: #REF!
Name ______________TB1: #REF!
Name ______________TB1: #REF!
Name ______________TB1: #REF!
Name _____________FEb1: '[5]PL PBC'!#REF!
Name _____________FEb1: '[5]PL PBC'!#REF!
Name _____________FEb1: '[5]PL PBC'!#REF!
Name _____________ist1: '[5]PL PBC'!#REF!
Name _____________ist1: '[5]PL PBC'!#REF!
Name _____________ist1: '[5]PL PBC'!#REF!
Name ____________FEb1: '[5]PL PBC'!#REF!
Name ____________FEb1: '[5]PL PBC'!#REF!
Name ____________FEb1: '[5]PL PBC'!#REF!
Name ____________FEb1: '[5]PL PBC'!#REF!
Name ____________ist1: '[5]PL PBC'!#REF!
Name ____________ist1: '[5]PL PBC'!#REF!
Name ____________ist1: '[5]PL PBC'!#REF!
Name ____________ist1: '[5]PL PBC'!#REF!
Name ____________TB1: #REF!
Name ____________TB1: #REF!
Name ____________TB1: #REF!
Name ____________TB1: #REF!
Name ___________FEb1: '[5]PL PBC'!#REF!
Name ___________FEb1: '[5]PL PBC'!#REF!
Name ___________FEb1: '[5]PL PBC'!#REF!
Name ___________FEb1: '[5]PL PBC'!#REF!
Name ___________ist1: '[5]PL PBC'!#REF!
Name ___________ist1: '[5]PL PBC'!#REF!
Name ___________ist1: '[5]PL PBC'!#REF!
Name ___________ist1: '[5]PL PBC'!#REF!
Name ___________TB1: #REF!
Name ___________TB1: #REF!
Name ___________TB1: #REF!
Name ___________TB1: #REF!
Name __________col1: #REF!
Name __________col1: #REF!
Name __________col1: #REF!
Name __________col10: #REF!
Name __________col10: #REF!
Name __________col10: #REF!
Name __________col11: #REF!
Name __________col11: #REF!
Name __________col11: #REF!

Sheet Profit reco
A1: Profit reconciliation | B1: Main | C1: Delh | D1: Banglor | E1: Haryana | F1: Total | H1: Reserve reconciliation | I1: Main | J1: Delh | K1: Banglor | L1: Haryana | M1: Total
A2: Profit or (loss) as per Tally | B2: ='PL Grouping'!C367 -> -69908947 | C2: ='PL Grouping'!G367 -> 583903 | D2: ='PL Grouping'!E367 -> -448376 | E2: ='PL Grouping'!I367 -> -243654 | F2: =SUM(B2:E2) -> -70017074 | H2: As per Tally Reserves | I2: ='BS Grouping'!C11 -> 1.9952745e+08 | J2: ='BS Grouping'!E11 -> 0 | K2: ='BS Grouping'!G11 -> 0 | L2: ='BS Grouping'!I11 -> 0 | M2: =SUM(I2:L2) -> 1.9952745e+08
A3: Depreciation | B3: =-3531335*0 -> 0 | F3: =SUM(B3:D3) -> 0 | H3: As per Tally PL balances | I3: ='BS Grouping'!C15 -> -1.8750878e+08 | J3: ='BS Grouping'!G15 -> 247918.43 | K3: ='BS Grouping'!E15 -> -587616.66 | L3: ='BS Grouping'!I15 -> -243654 | M3: =SUM(I3:L3) -> -1.8809213e+08
A4: Less deprciaton adjustment amortisation | B4: =-'PL Grouping'!D245 -> -303131 | F4: =SUM(B4:D4) -> -303131 | M4: =SUM(I4:L4) -> 0
A5: Add notional income | B5: ='PL Grouping'!D56 -> 13234 | F5: =SUM(B5:D5) -> 13234 | M5: =SUM(I5:L5) -> 0
A6: Add notional rent | B6: =-'PL Grouping'!D242 -> 365680 | F6: =SUM(B6:D6) -> 365680 | M6: =SUM(I6:L6) -> 0
A7: ESOP expense | F7: =SUM(B7:D7) -> 0 | M7: =SUM(I7:L7) -> 0
A8: Gratuity | B8: =-'AE 22_23'!C3 -> -210410 | F8: =SUM(B8:D8) -> -210410 | M8: =SUM(I8:L8) -> 0
A9: Leave encashment | B9: =-'AE 22_23'!C13 -> -349231 | F9: =SUM(B9:D9) -> -349231 | M9: =SUM(I9:L9) -> 0
A10: Notional interest expe | B10: =-'PL Grouping'!D166-'PL Grouping'!D167 -> -105351.33 | F10: =SUM(B10:D10) -> -105351.33 | M10: =SUM(I10:L10) -> 0
A11: Deferred tax | B11: =-PL!D26 -> 749317 | F11: =SUM(B11:D11) -> 749317 | I11: =-PL!K26 -> 0 | M11: =SUM(I11:L11) -> 0
A12: OCI Gratuity | B12: =PL!D31 -> -42449 | F12: =SUM(B12:D12) -> -42449 | M12: =SUM(I12:L12) -> 0
F13: =SUM(B13:D13) -> 0 | M13: =SUM(I13:L13) -> 0
A14: Net profit as per IND | B14: =SUM(B2:B12) -> -69791288 | C14: =SUM(C2:C12) -> 583903 | D14: =SUM(D2:D12) -> -448376 | E14: =SUM(E2:E12) -> -243654 | F14: =SUM(F2:F13) -> -69899415 | H14: Net reserves | I14: =SUM(I2:I12) -> 12018678 | J14: =SUM(J2:J12) -> 247918.43 | K14: =SUM(K2:K12) -> -587616.66 | L14: =SUM(L2:L12) -> -243654 | M14: =SUM(M2:M13) -> 11435326
A15: Link with PL | F15: =PL!D27 -> -70108956 | H15: Link with FS | M15: =BS!D35 -> 10926966
A17: Difference | F17: =+F14-F15 -> 209540.67 | H17: Difference | M17: =+M14-M15 -> 508360.12
B18: =SUM(B4:B11)+-1 -> 160106.67
B19: 3531335 | F19: =F15+B18 -> -69948849
F20: =E14-D14-C14 -> -379181
F21: =F19-F20 -> -69569668
F22: -69319718
F23: =F21-F22 -> -249950.33

Sheet BS
A1: 1908 E-Ventures Private Limited
A2: Balance Sheet as at 31st March, 2023
A3: [Currency: Indian Rupees(Rs.'000)]
B5: Particulars | C5: Notes | D5: As at 31st March, 2023 | E5: As at 31st March, 2022 | F5: 31.3.2021 | G5: 31.3.2020
A6: I | B6: ASSETS
A8: (1) | B8: Non-current assets
B9: (a) Property, Plant and Equipment | C9: =LEFT(FA!A5,1) -> 3 | D9: =+FA!M23 -> 989268 | E9: =ROUND(FA!M42,0) -> 961711 | F9: 738252 | G9: 694465 | I9: 19057258 | J9: =D9+D10 -> 15634555
B10: (b) Intangible assets | C10: =LEFT(FA!A5,1) -> 3 | D10: =+FA!M58 -> 14645287 | E10: =ROUND(FA!M74,0) -> 17173261 | F10: 5561878 | G10: 104763 | I10: 0 | J10: =I9-J9 -> 3422702.8
B11: (c) Right-of-use asset | C11: =+Notes!A5 -> 4 | D11: =ROUND(Notes!C18,0) -> 569719 | E11: =+Notes!D18 -> 872850 | F11: 0 | J11: =PL!H17 -> 3551492
B12: (d) Deferred tax Assets (Net) | C12: =Notes!A20 -> 5 | D12: =ROUND(Notes!C33,0) -> 7416129 | E12: =ROUND(Notes!D33,0) -> 8165446 | F12: 8165446 | G12: 8165446 | J12: =J10-J11 -> -128789.22
B13: (e) Non-current financial assets
B14: (i) Investments | C14: =Notes!A47 -> 6 | D14: =ROUND(Notes!C55,0) -> 40000 | E14: 0
B15: (ii) Other financial assets | C15: =Notes!A58 -> 7 | D15: =ROUND(Notes!C65,0) -> 404970 | E15: =ROUND(Notes!D65,0) -> 257339 | F15: 252378 | G15: 474594
B16: (f) Other non-current tax assets | C16: =Notes!A68 -> 8 | D16: =ROUND(Notes!C73,0) -> 127252 | E16: =ROUND(Notes!D73,0) -> 47081 | F16: 138253 | G16: 458647
B17: (g) Other non-current assets | C17: =Notes!A75 -> 9 | D17: =ROUND(Notes!C80,0) -> 12351 | E17: =ROUND(Notes!D80,0) -> 27088 | F17: 11004 | G17: 15133
D18: =SUM(D9:D17) -> 24204976 | E18: =SUM(E9:E17) -> 27504776 | F18: =SUM(F9:F17) -> 14867211 | G18: =SUM(G9:G17) -> 9913048
A19: (2) | B19: Current assets
B20: (a) Inventories | C20: =Notes!A82 -> 10 | D20: =ROUND(Notes!C87,0) -> 28060951 | E20: =ROUND(Notes!D87,0) -> 26273701 | F20: 16809604 | G20: 7412151
B21: (b) Financial Assets
B22: (i) Trade receivables | C22: =Notes!A90 -> 11 | D22: =ROUND(Notes!C98,0) -> 2662259 | E22: =ROUND(Notes!D98,0) -> 4706908 | F22: 4961318 | G22: 3465198
B23: (ii) Cash and cash equivalents | C23: =Notes!A133 -> 12 | D23: =ROUND(Notes!C144,0) -> 43169 | E23: =ROUND(Notes!D144,0) -> 41102092 | F23: 212620 | G23: 895556
B24: (iii) Other current financial assets | C24: =Notes!A146 -> 13 | D24: =ROUND(Notes!C153,0) -> 3679 | E24: =ROUND(Notes!D153,0) -> 93710 | F24: 16949 | G24: 181851
B25: (c) Other current assets | C25: =Notes!A155 -> 14 | D25: =ROUND(Notes!C162,0) -> 24974795 | E25: =ROUND(Notes!D162,0) -> 18656516 | F25: 8986308 | G25: 3865479
D26: =SUM(D20:D25)+2 -> 55744855 | E26: =SUM(E20:E25) -> 90832927 | F26: =SUM(F20:F25) -> 30986799 | G26: =SUM(G20:G25) -> 15820235
B28: Total Assets | D28: =D18+D26+6 -> 79949837 | E28: =E18+E26+2 -> 118337705 | F28: =F18+F26 -> 45854010 | G28: =G18+G26 -> 25733283
A30: II | B30: EQUITY AND LIABILITIES
B32: Equity
B33: (a) Equity Share capital | C33: =Notes!A164 -> 15 | D33: =ROUND(SOCE!C14,0) -> 59945140 | E33: =SOCE!E14 -> 59442630 | F33: 31993290 | G33: 18041150
B34: (b) Other Equity | C34: =Notes!A291 -> 16 | D34: =SOCE!E29 -> -49018174 | E34: =ROUND(Notes!D306,0) -> 16635768 | F34: -62793926 | G34: -57152023
D35: =SUM(D33:D34) -> 10926966 | E35: =SUM(E33:E34) -> 76078398 | F35: =SUM(F33:F34) -> -30800636 | G35: =SUM(G33:G34) -> -39110873
B36: LIABILITIES
A37: (1) | B37: Non-current liabilities
B38: (a) Financial Liabilities
B39: (i) Lease liabilities | C39: =Notes!A308 -> 17 | D39: =ROUND(Notes!C311,) -> 275494 | E39: =ROUND(Notes!D311,) -> 601532 | F39: 0
B40: (ii) Long-term borrowings | F40: 30821780 | G40: 22397242
B41: (b) Long-term provisions | C41: =Notes!A316 -> 18 | D41: =ROUND(Notes!C322,0) -> 2213525 | E41: =ROUND(Notes!D322,0) -> 1657085 | F41: 1233428 | G41: 1023460
D42: =SUM(D39:D41) -> 2489019 | E42: =SUM(E39:E41) -> 2258617 | F42: =SUM(F39:F41) -> 32055208 | G42: =SUM(G39:G41) -> 23420702
A43: (2) | B43: Current liabilities
B44: (a) Financial Liabilities
B45: (i) Lease liabilities | C45: =+C39 -> 17 | D45: =ROUND(Notes!C312,) -> 326038 | E45: =ROUND(Notes!D312,) -> 274741 | F45: 0
...

Sheet PL
A1: =BS!A1 -> 1908 E-Ventures Private Limited
A2: Statement of Profit and Loss
A3: For the year ended 31st March, 2023
A4: =BS!A3 -> [Currency: Indian Rupees(Rs.'000)]
B6: Particulars | C6: Notes | D6: 2022-23 | E6: 2021-2022
B8: Revenue from operations | C8: =Notes!A401 -> 24 | D8: =ROUND(Notes!C406,0) -> 64296378 | E8: =ROUND(Notes!D406,0) -> 64459893
B9: Other income | C9: =Notes!A408 -> 25 | D9: =ROUND(Notes!C419,0) -> 2795332 | E9: =ROUND(Notes!D419,0) -> 1777548
B10: Total income | D10: =SUM(D8:D9) -> 67091710 | E10: =SUM(E8:E9) -> 66237441
B12: Expenses
B13: Purchases of Stock-in-Trade | C13: =Notes!A421 -> 26 | D13: =ROUND(Notes!C425,0) -> 49863845 | E13: =ROUND(Notes!D425,0) -> 56229180
B14: Changes in inventories | C14: =Notes!A427 -> 27 | D14: =ROUND(Notes!C436,0) -> -1787249 | E14: =ROUND(Notes!D436,0) -> -9464613
B15: Employee benefits expense | C15: =+Notes!A438 -> 28 | D15: =ROUND(Notes!C447,0) -> 21592535 | E15: =ROUND(Notes!D447,0) -> 17938915
B16: Finance costs | C16: =+Notes!A449 -> 29 | D16: =ROUND(Notes!C456,0) -> 395272 | E16: =ROUND(Notes!D456,0) -> 4585229
B17: Depreciation and amortisation expense | C17: 3 | D17: =ROUND(Notes!C464,0) -> 3854623 | E17: =ROUND(Notes!D464,0) -> 1350262 | G17: 303131 | H17: =D17-G17 -> 3551492
B18: Other expenses | C18: =Notes!A466 -> 31 | D18: =ROUND(Notes!C498,0) -> 62532317 | E18: =ROUND(Notes!D498,0) -> 55713860
B19: Total expenses | D19: =SUM(D13:D18)+2 -> 136451345 | E19: =SUM(E13:E18)+6 -> 126352839
B21: Profit before exceptional items and tax | D21: =D10-D19 -> -69359635 | E21: =E10-E19-1 -> -60115399
B22: Exceptional items | D22: 0 | E22: 0
B23: Profit before tax | D23: =SUM(D21:D22) -> -69359635 | E23: =SUM(E21:E22) -> -60115399
B24: Tax expense
B25: (1) Current tax | D25: 0 | E25: 0
B26: (2) Deferred tax asset/(liability) | D26: =ROUND('Deferred tax 22-23'!G14,)-4 -> -749317 | E26: 0 | G26: PY
B27: Profit for the year | D27: =D23+D25+D26-4 -> -70108956 | E27: =E23-E25+E26 -> -60115399 | F27: ='Profit reco'!F14 -> -69899415 | G27: -60115259
F28: =D27-F27 -> -209540.67 | G28: =E27-G27 -> -140
B29: Other comprehensive income:
B30: Items that will not be reclassified to profit or loss
B31: Remeasurement of net defined benefit liability | D31: =-'PL Grouping'!K345 -> -42449 | E31: =ROUND('PL Grouping'!L343,0) -> -1661
B32: Income tax relating to items not reclassified | D32: 0 | E32: 0
B33: Items that will be reclassified subsequently to profit or loss | D33: 0 | E33: 0
B34: Income tax relating to items that will be reclassified | D34: 0 | E34: 0
B36: Total comprehensive income for the year | D36: =+D27+D31+D32+D34 -> -70151405 | E36: =+E27+E31+E32+E34 -> -60117060
B38: Earnings per share | C38: =Notes!A500 -> 32
B39: Basic earnings (loss) per share | D39: =Notes!C508 -> -11.79439 | E39: =Notes!D508 -> -10.11318
B40: Diluted earnings (loss) per share | D40: =+Notes!C509 -> -11.79439 | E40: =+Notes!D509 -> -10.11318
B42: The accompanying notes are integral part of the financial statements (all amounts in rupees)
C43: ="1 to " &'Notes 42 to 43'!A14 -> 1 to 43
B44: In terms of our report on even date attached
B47: For Sunil Modi & Co | C47: For and on behalf of the Board of Directors
B48: Chartered Accountants
B49: Firm Registration No. 142806W
...

Sheet Cash flow
A1: =BS!A1 -> 1908 E-Ventures Private Limited
A2: Cash flow statement for the year ended 31st March, 2023
A3: =PL!A4 -> [Currency: Indian Rupees(Rs.'000)]
A4: Particulars | C4: Year ended | D4: Year ended | G4: Year ended
C5: 31st March, 2023 | D5: 31st March, 2022 | G5: 31st March, 2022
A6: A. Cash flow from operating activities
A8: Net Profit before tax | C8: =ROUND(PL!D23,0) -> -69359635 | D8: =ROUND(PL!E23,0) -> -60115399 | G8: -60115259 | I8: =D8-G8 -> -140
A9: Adjustments for: | I9: =D9-G9 -> 0
A10: Depreciation and amortisation expense | C10: =ROUND(PL!D17,0) -> 3854623 | D10: =ROUND(PL!E17,0) -> 1350262 | G10: 1350262 | I10: =D10-G10 -> 0
A11: Interest income | C11: =ROUND(-(Notes!C412+Notes!C413+Notes!C414),0) -> -21217 | D11: =ROUND(-(Notes!D412+Notes!D413+Notes!D414),0) -> -37675 | G11: -37675 | I11: =D11-G11 -> 0
A12: Exchange gain | C12: =Notes!C475 -> 38077 | D12: =Notes!D475 -> 122301 | G12: 122301 | I12: =D12-G12 -> 0
A13: Provision for Gratuity | C13: =ROUND(Notes!C443,0) -> 210410 | D13: =ROUND(Notes!D443,0) -> 188986 | G13: 188986 | I13: =D13-G13 -> 0
A14: Provision for Leave encashment | C14: =ROUND(Notes!C444,0) -> 479272 | D14: =ROUND(Notes!D444,0) -> 493373 | G14: 493373 | I14: =D14-G14 -> 0
A15: Employee stock options | C15: =ROUND(Notes!C445,0) -> 0 | D15: =ROUND(Notes!D445,0) -> 2073850 | G15: 2073850 | I15: =D15-G15 -> 0
A16: Profit/(loss) on sale of PPE | C16: =-Notes!C415+Notes!C485 -> 0 | D16: =-Notes!D415+Notes!D485 -> -2435 | G16: 0 | I16: =D16-G16 -> -2435
A17: Sundry balances written back/written-off | C17: =ROUND(-Notes!C416,0) -> -40845 | D17: =ROUND(-Notes!D416,0) -> -269244 | G17: -269245 | I17: =D17-G17 -> 1
A18: Operating profit before working capital changes | C18: =SUM(C8:C17)-10 -> -64839325 | D18: =ROUND(SUM(D8:D17),0) -> -56195981 | G18: -56193407 | I18: =D18-G18 -> -2574
I19: =D19-G19 -> 0
A20: Adjustment for: | I20: =D20-G20 -> 0
A21: Decrease/ (Increase) in inventories | C21: =ROUND(BS!E20-BS!D20,0) -> -1787250 | D21: =ROUND(BS!F20-BS!E20,0) -> -9464097 | F21: -1787250 | G21: -9464097 | I21: =D21-G21 -> 0
A22: Decrease/ (Increase) in trade receivable | C22: =ROUND(BS!E22-BS!D22,0) -> 2044649 | D22: =ROUND(BS!F22-BS!E22,0) -> 254410 | F22: 1998204 | G22: 254410 | I22: =D22-G22 -> 0
A23: Decrease/ (Increase) in long term loans and advances and other receivables | C23: =ROUND(BS!E17-BS!D17+BS!E16-BS!D16+BS!E15-BS!D15,0) -> -213065 | D23: =ROUND(BS!F17-BS!E17+BS!F16-BS!E16+BS!F15-BS!E15,0) -> 70127 | F23: -213062 | G23: 70127 | I23: =D23-G23 -> 0
A24: Decrease/ (Increase) in other assets and receivables | C24: =ROUND(+BS!E25-BS!D25+BS!E24-BS!D24+BS!E11-BS!D11-Notes!C463,0)-8 -> -6228256 | D24: =ROUND(+BS!F25-BS!E25+BS!F24-BS!E24+BS!F11-BS!E11-Notes!D463,0) -> -10656361 | F24: -6228258 | G24: -10656361 | I24: =D24-G24 -> 0
A25: (Decrease)/Increase in trade and other payables | C25: =(ROUND(BS!D41-BS!E41+BS!D48+BS!D49-BS!E48-BS!E49+BS!D47-BS!E47+BS!D50-BS!E50+BS!D51-BS!E51+BS!D45-BS!E45+BS!D39-BS!E39-C12-'Cash flow'!C13-'Cash flow'!C14-C17+PL!D31,0))+PL!D31*0 -> 13565608 | D25: =ROUND(BS!E41-BS!F41+BS!E48+BS!E49-BS!F48-BS!F49+BS!E47-BS!F47+BS!E50-BS!F50+BS!E51-BS!F51+BS!E45-BS!F45+BS!E39-BS!F39-D12-'Cash flow'!D13-'Cash flow'!D14-D17+PL!E31,0)-30 -> 18842736 | F25: 13998740 | G25: 18842641 | I25: =D25-G25 -> 95
A26: Cash generated from operations | C26: =SUM(C18:C25)-10 -> -57457649 | D26: =SUM(D18:D25) -> -57149166 | G26: -57146687 | I26: =D26-G26 -> -2479
A27: Income tax refund/(paid) | C27: 0 | D27: 0 | G27: 0 | I27: =D27-G27 -> 0
A28: Net cash (used in)/ generated from operating activities | C28: =SUM(C26:C27) -> -57457649 | D28: =ROUND(SUM(D26:D27),0) -> -57149166 | G28: -57146687 | I28: =D28-G28 -> -2479
A29: B. Cash flow from investing activities | I29: =D29-G29 -> 0
A30: Acquisition of fixed assets and capital work in progress | C30: =ROUND(-FA!D58-FA!D23,0) -> -1093843 | D30: =ROUND(-FA!D42-FA!D69,0) -> -13151127 | G30: -13151127 | I30: =D30-G30 -> 0
A31: Purchase of investments | C31: =-BS!E14-BS!D14 -> -40000 | D31: 0
A32: Proceeds from sale of PPE | C32: =ROUND(FA!F23-FA!K23-C16,0) -> 42768 | D32: =FA!F42+FA!F74-FA!K42-FA!K74-D16 -> 5000 | G32: 2565 | I32: =D32-G32 -> 2435
A33: Interest income on fixed deposits and other advances | C33: =ROUND(-C11,0) -> 21217 | D33: =ROUND(-D11,0) -> 37675 | G33: 37675 | I33: =D33-G33 -> 0
A34: Net cash (used in)/ generated from investing activities | C34: =SUM(C30:C33)+4 -> -1069854 | D34: =ROUND(SUM(D30:D33),0) -> -13108452 | G34: -13110887 | I34: =D34-G34 -> 2435
A35: C. Cash flow from financing activities | I35: =D35-G35 -> 0
A36: Proceeds from issuance of Debentures | C36: =ROUND(BS!D40-BS!E40,0)*0 -> 0 | D36: 0 | G36: 0 | I36: =D36-G36 -> 0
A37: Proceeds from issuance of Inter corporate deposits*incl conversion | C37: 0 | D37: 2678186 | G37: 2678186 | I37: =D37-G37 -> 0
A38: Proceeds from issuance of Equity shares | C38: =ROUND(SOCE!C11+SOCE!C10+SOCE!C23,0) -> 4999975 | D38: 131422306 | G38: 131422306 | I38: =D38-G38 -> 0
A39: Proceeds from Short term borrowings | C39: =ROUND(BS!D46-BS!E46,0) -> 12468603 | D39: =ROUND(BS!E46-BS!F46,0) -> -22953413 | G39: -22953413 | I39: =D39-G39 -> 0
A40: Net cash (used in)/ generated from financing activities | C40: =SUM(C36:C39) -> 17468578 | D40: =SUM(D36:D39)+6 -> 111147085 | G40: 111147079 | I40: =D40-G40 -> 6
I41: =D41-G41 -> 0
...

Sheet Notes
A1: =+BS!A1 -> 1908 E-Ventures Private Limited
A2: Notes forming part of the financial statements
A3: =BS!A3 -> [Currency: Indian Rupees(Rs.'000)]
A5: 4 | B5: Right-of-use asset
B6: Particulars | C6: As at 31st March, 2023 | D6: As at 31st March, 2022
B7: Gross carrying value
B8: Opening balance | C8: =D11 -> 909392 | D8: 0 | F8: prev year | M8: =1/1000 -> 0.001
B9: Additions | C9: 0 | D9: =ROUND(909392.036063111,) -> 909392 | F9: as per bs
B10: Disposals | C10: 0 | D10: 0 | F10: as per bs
B11: Closing carrying value | C11: =SUM(C8+C9-C10) -> 909392 | D11: =SUM(D8+D9-D10) -> 909392 | F11: as per bs
B13: Accumulated amortisation | F13: working ind as | H13: =+D14-D13 -> 0 | I13: =+E14-E13 -> 0
B14: Opening balance | C14: =D17 -> 36542 | D14: 0
B15: Amortisation during the year | C15: =ROUND('PL Grouping'!K247,) -> 303131 | D15: 36542
B16: Disposals | C16: 0 | D16: 0 | F16: as per bs | H16: =+H13-D16 -> 0 | I16: =+I13-E16 -> 0 | J16: =+H16-I16 -> 0
B17: Closing balance | C17: =SUM(C14+C15-C16) -> 339673 | D17: =SUM(D14+D15-D16) -> 36542
B18: Closing carrying value | C18: =+C11-C17 -> 569719 | D18: =+D11-D17 -> 872850
A20: =+A5+1 -> 5 | B20: Deferred tax Assets (Net)
B21: Particulars | C21: =C6 -> As at 31st March, 2023 | D21: =D6 -> As at 31st March, 2022
B22: Deferred tax asset arising on account of (A)
B23: Opening DTA | C23: =+D33 -> 8165446 | D23: 8165446 | F23: prev year | M23: =1/1000 -> 0.001
B24: Timing difference between book depreciation and depreciation as per Income Tax Act ,1961 | C24: =ROUND(PL!D26,) -> -749317 | D24: 0 | F24: as per bs
B25: Employees benefit expenses | C25: 0 | D25: 0 | F25: as per bs
B26: Brought forward depreciation / Unabsorbed losses | C26: 0 | D26: 0 | F26: as per bs
B27: Preliminary expenses | C27: =+'Deferred tax 19-20'!G22*0 -> 0 | D27: 0
B28: Others | C28: =+PL!D32 -> 0 | D28: 0 | F28: working ind as | H28: =+D29-D28 -> 8165446 | I28: =+E29-E28 -> 0
C29: =SUM(C23:C28) -> 7416129 | D29: =SUM(D23:D28) -> 8165446
B30: Deferred tax liability arising on account of (B)
B31: Others | C31: 0 | D31: 0 | F31: as per bs | H31: =+H28-D31 -> 8165446 | I31: =+I28-E31 -> 0 | J31: =+H31-I31 -> 8165446
B33: Total | C33: =C29-SUM(C31:C31) -> 7416129 | D33: =D29-SUM(D31:D31) -> 8165446
B35: The Company has not recognized deferred tax asset on unabsorbed depreciation & carried forward business losses under tax laws and other temporary differences in view that it not probable that taxable profits will be available against which the deductible temporary differences can be utilized. Unused tax losses, unabsorbed depreciation and temporary differences on which no deferred tax asset is recognised in Balance Sheet
B36: Particulars | C36: =+C21 -> As at 31st March, 2023 | D36: =+D21 -> As at 31st March, 2022 | M36: Needs to be seen
B37: Deferred tax asset arising on account of (A)
B38: Unabsorbed Tax depreciation | C38: =ROUND(D38-'Deferred tax 21-22'!F14,) -> 61414 | D38: ='Deferred tax 21-22'!E14 -> 282270 | F38: prev year | M38: -1038850
B39: Unused Tax Losses | C39: =ROUND('Deferred tax 22-23'!E52,) -> 56378222 | D39: ='Deferred tax 21-22'!E50 -> 39313744 | F39: as per bs | M39: 17539614
B40: Temporary differences | C40: =ROUND('Deferred tax 22-23'!E27,0) -> 547857 | D40: ='Deferred tax 21-22'!E27 -> 409978 | F40: as per bs | M40: 250872
B41: Remeasurement of net defined benefit liability (OCI) | C41: =-ROUND(PL!D31*'Deferred tax 19-20'!$J$15%,0)*0 -> 0 | D41: =-ROUND(PL!E31*'Deferred tax 19-20'!$J$15%,0)*0 -> 0 | M41: -8388
B43: Total | C43: =SUM(C38:C42) -> 56987493 | D43: =SUM(D38:D42) -> 40005992
B44: Unabsorbed depreciation does not have any expiry period under the Income Tax Act, 1961.
B45: The tax benefits for the losses would expire if not utilised starting from financial year 2023-24 to 2030-31
A47: =A20+1 -> 6 | B47: Investments
...

Sheet SOCE
A1: =BS!A1 -> 1908 E-Ventures Private Limited
A2: Statement of Changes in Equity
A3: For the year ended 31st March, 2023
A4: =BS!A3 -> [Currency: Indian Rupees(Rs.'000)]
A6: A. Equity share capital
A7: Particulars | B7: 2022-23 | D7: 2021-22
B8: Number of Shares | C8: Amount in Rupees | D8: Number of Shares | E8: Amount in Rupees
A9: Opening Balance | B9: =+D14 -> 5944263 | C9: =B9*10 -> 59442630 | D9: 3199329 | E9: 31993290
A10: Add: Shares issued on exercise of employee stock options during the year | C10: =+B10*10 -> 0 | D10: 37000 | E10: 370000
A11: Add: Shares issued on private placement | B11: 50251 | C11: =+B11*10 -> 502510 | D11: 1894732 | E11: 18947320
A12: Add: Shares issued on conversion of Convertible debenture during the year | C12: =+B12*10 -> 0 | D12: 457142 | E12: 4571420
A13: Add: Shares issued on conversion of ICD/Loan during the year | C13: =+B13*10 -> 0 | D13: 356060 | E13: 3560600 | J13: =194529139-118487682 -> 76041457
A14: Balance as at the end of the year | B14: =SUM(B9:B13) -> 5994514 | C14: =SUM(C9:C13) -> 59945140 | D14: =SUM(D9:D13) -> 5944263 | E14: =SUM(E9:E13) -> 59442630 | J14: =+E29+C14 -> 10926966
A17: B. Other equity
A18: Particulars | B18: Reserves and surplus | E18: Total equity | J18: =J13-J14 -> 65114491 | K18: 149599 | L18: b
B19: Retained earnings | C19: Securities premium | D19: Employee share options (net) | K19: 335985 | L19: d4
B20: Rs. | C20: Rs. | D20: Rs. | E20: Rs. | K20: =SUM(K18:K19) -> 485584
A21: Balance as at 1 April 2022 | B21: =+B39 -> -156058722 | C21: =+C39 -> 172694594 | D21: =+D39 -> -106 | E21: =SUM(B21:D21) -> 16635766 | K21: =+J18+K20 -> 65600075
A22: Profit for the year | B22: =ROUND(PL!D27,) -> -70108956 | C22: 0 | D22: 0 | E22: =SUM(B22:D22) -> -70108956
A23: Issue of equity shares | B23: 0 | C23: 4497465 | D23: 0 | E23: =SUM(B23:D23) -> 4497465
A24: Transfer from/to general reserve/retained earnings during the year | C24: 0 | D24: =-B24 -> 0 | E24: =SUM(B24:D24) -> 0
A25: Employee stock options (net) | B25: -106 | C25: 0 | D25: 106 | E25: =SUM(B25:D25) -> 0
A26: Other comprehensive income | B26: =ROUND((PL!D31+PL!D32),) -> -42449 | C26: 0 | D26: =PL!F31 -> 0 | E26: =SUM(B26:D26) -> -42449
A28: Total comprehensive income for the year | B28: =SUM(B22:B26) -> -70151511 | C28: =SUM(C22:C26) -> 4497465 | D28: =SUM(D22:D26) -> 106 | E28: =SUM(E22:E26) -> -65653940
A29: Balance as at 31 March 2023 | B29: =B28+B21 -> -226210233 | C29: =C28+C21 -> 177192059 | D29: =D28+D21 -> 0 | E29: =E28+E21 -> -49018174 | J29: =E29+C14 -> 10926966
A31: Balance as at 1 April 2022 | B31: -98611789 | C31: 35221692 | D31: 596171 | E31: =SUM(B31:D31) -> -62793926
A32: Profit for the year | B32: =ROUND(PL!E27,) -> -60115399 | C32: 0 | D32: 0 | E32: =SUM(B32:D32) -> -60115399
A33: Issue of equity shares | B33: 0 | C33: 137472902 | D33: 0 | E33: =SUM(B33:D33) -> 137472902
A34: Transfer from/to general reserve/retained earnings during the year | B34: 2670127 | C34: 0 | D34: -2670127 | E34: =SUM(B34:D34) -> 0
A35: Employee stock options (net) | B35: 0 | C35: 0 | D35: 2073850 | E35: =SUM(B35:D35) -> 2073850
A36: Other comprehensive income | B36: =ROUND(PL!E31,) -> -1661 | C36: 0 | D36: 0 | E36: =SUM(B36:D36) -> -1661
A38: Total comprehensive income for the year | B38: =SUM(B32:B37) -> -57446933 | C38: =SUM(C32:C37) -> 137472902 | D38: =SUM(D32:D37) -> -596277 | E38: =SUM(E32:E37) -> 79429692
A39: Balance as at 31 March 2022 | B39: =B31+B38 -> -156058722 | C39: =C31+C38 -> 172694594 | D39: =D31+D38 -> -106 | E39: =E31+E38 -> 16635766 | J39: =E39+E14 -> 76078396
A41: =BS!B56 -> The accompanying notes are integral part of the financial statements (all amounts in Rupees) In terms of our report on even date attached | J41: 16635692
A46: For Sunil Modi & Co | B46: For and on behalf of the Board of Directors
A47: Chartered Accountants
A48: Firm Registration No. 142806W
A52: Sunil Modi | B52: =+BS!C63 -> Deep A. Lalvani | D52: =+BS!E63 -> Ninotchka Malkani Nagpal
A53: Partner | B53: =+BS!C64 -> Chairman | D53: =+BS!E64 -> Director
A54: Membership No. 042562 | B54: =+BS!C65 -> DIN: 01771000 | D54: =+BS!E65 -> DIN: 00031985
...

Sheet cash loss
C1: 1908 E-ventures Private Limited
C3: Cash losses Calculation
C5: Particulars | D5: As at 31 March 2023 | E5: As at 31 March 2022
C6: Profit & Loss ( excluding other comprehensive income) | D6: =PL!D27 -> -70108956 | E6: =PL!E27 -> -60115399
C7: Add: Depreciation and amortisation | D7: =PL!D17 -> 3854623 | E7: =PL!E17 -> 1350262
C8: Add: Interest charge as per Ind AS 116 | D8: =ROU!D51 -> 90939 | E8: =ROU!D50 -> 10962.51
C9: Less: Interest income on security deposit given | D9: =-Notes!C414 -> -13234 | E9: =-Notes!D414 -> -24198
C10: Less: Amortisation of Rent income
C11: Add: Net gain /loss on FV changes on redemtion of Mutual Fund
C12: Add: Gratuity
C13: Add: Rent paid | D13: =Notes!C484*0 -> 0 | E13: =Notes!D484*0 -> 0
C14: Add: Loss on settlement of financial assets
C15: Add: ESOP expense | D15: =Notes!C445 -> 0 | E15: =Notes!D445 -> 2073850
C16: Add: Foreign exchange gain/loss | D16: =Notes!C475 -> 38077 | E16: =Notes!D475 -> 122301
C17: Less: Defered Tax | D17: =PL!D26 -> -749317 | E17: =PL!E26 -> 0
C18: Net cash loss | D18: =SUM(D6:D17) -> -66887868 | E18: =SUM(E6:E17) -> -56582221

Sheet Accounting Policies(2)
A1: ='Cash flow'!A1 -> 1908 E-Ventures Private Limited
A2: Significant accounting policies and other explanatory information for the year ended 31st March, 2022
A3: Notes to the financial statements
A5: 1 | B5: Company information
B6: (a) | C6: 1908 E-Ventures Pvt. Ltd. is a private limited company incorporated under the provision of the Companies Act, 2013. The Company was promoted & incorporated by M/s. J.B. Advani & Company Pvt. Ltd. and M/s. Ador Multiproducts Ltd. on 18th August 2015 to carry on the business to create an e-commerce platform - both website based & mobile application based that will showcase, display and sell multiple brands and provide all e - commerce based trading of consumer goods. 1908 E-Ventures Pvt. Ltd. (‘the Company’) is a private limited company and was incorporated in 2015. The registered and corporate office of the company is situated at 5th floor, Ador House, 6K Dubash Marg, Fort, 6, K Dubash Marg, Kala Ghoda, Fort, Mumbai, Maharashtra 400001.
A7: 2.1 | B7: BASIS OF PREPARATION OF FINANCIAL STATEMENTS
B8: (a) | C8: Basis of preparation and compliance with Ind AS
B9: (i) | C9: For all periods upto and including the year ended 31 March 2017, the Company prepared its financial statements in accordance with Generally Accepted Accounting Principles in India (IGAAP) and complied with the accounting standards (Previous GAAP) as notified under Section 133 of the Companies Act, 2013 read together with Rule 7 of the Companies (Accounts) Rules, 2014, (as amended), to the extent applicable and the presentation requirements of the Companies Act, 2013.
B10: (ii) | C10: In accordance with the notification issued by the Ministry of Corporate Affairs, the Company has adopted Indian Accounting Standards (Ind AS) notified under Section 133 (as amended) of the Act (collectively, “Ind AS”) with effect from 1 April, 2017.
B12: (b) | C12: Critical estimates and judgements
C13: The preparation of Financial Statements in conformity with Ind AS which requires management to make estimates, assumptions and exercise judgement in applying the accounting policies that affect the reported amount of assets, liabilities and disclosure of contingent liabilities at the date of financial statements and the reported amounts of income and expenses during the year.
C14: The Management believes that these estimates are prudent and reasonable and are based upon the management’s best knowledge of current events and actions. Actual results could differ from these estimates and differences between actual results and estimates are recognised in the periods in which the results are known or materialised.
C15: This note provides an overview of the areas that involved a higher degree of judgement or complexity, and of items which are more likely to be materially adjusted due to estimates and assumptions turning out to be different than those originally assessed.
C16: Useful lives of property, plant and equipment
C17: Property, Plant and Equipment represent a significant proportion of the asset base of the Company . The charge in respect of periodic depreciation is derived after determining an estimate of an asset’s expected useful life and the expected residual value at the end of its life. The useful lives and residual values of Company’s assets are determined by the management at the time the asset is acquired and reviewed periodically, including at each financial year end.
C19: Valuation of deferred tax assets
C20: The Company reviews the carrying amount of deferred tax assets at the end of each reporting period. Significant judgement is involved in arriving at the deferred tax assets and liabilities, which is based on the Company’s current operations and projections for the future.
C22: Defined benefit obligation
C23: The cost of post-employment benefits is determined using actuarial valuations. The actuarial valuation involves making assumptions about discount rates, expected rate of return on assets, future salary increases and mortality rates. Due to the long term nature of these plans such estimates are subject to significant uncertainty. The assumptions used as disclosed in Note 32.
B25: (c) | C25: Basis of measurement
C26: The Ind AS financial statements have been prepared on a going concern basis using historical cost convention and on an accrual method of accounting, except for certain financial assets and liabilities which have been measured at fair value as described below and defined benefit plans which have been measured at actuarial valuation as required by relevant Ind AS.
C27: Fair value measurement
C28: The Company measures certain financial assets and liabilities at fair value at each balance sheet date. Fair value is the price that would be received to sell an asset or paid to transfer a liability in an orderly transaction between market participants at the measurement date. The fair value measurement is based on the presumption that the transaction to sell the asset or transfer the liability takes place either:
C29: - In the principal market for the asset or liability, or
C30: - In the absence of a principal market, in the most advantageous market for the asset or liability
C31: The principal or the most advantageous market must be accessible by the Company .
C32: The fair value of an asset or a liability is measured using the assumptions that market participants would use when pricing the asset or liability, assuming that market participants act in their economic best interest.
C33: A fair value measurement of a non-financial asset takes into account a market participant’s ability to generate economic benefits by using the asset in its highest and best use or by selling it to another market participant that would use the asset in its highest and best use.
C34: Fair value for measurement and /or disclosure purpose in these financial statements is determined on such a basis, except for leasing transactions that are within the scope of Ind AS 17, and measurements that have some similarities to fair value, such as net realisable value in Ind AS 2 or value in use in Ind AS 36.
C35: The Company uses valuation techniques that are appropriate in the circumstances and for which sufficient data are available to measure fair value, maximising the use of relevant observable inputs and minimising the use of unobservable inputs.
C36: All assets and liabilities for which fair value is measured or disclosed in the financial statements are categorised within the fair value hierarchy, described as follows, based on the lowest level input that is significant to the fair value measurement as a whole:
C37: Level 1 — Quoted (unadjusted) market prices in active markets for identical assets or liabilities
... C40: For the purpose of fair value disclosures, the Company has determined classes of assets and liabilities on the basis of the nature, characteristics and risks of the asset or liability and the level of the fair value hierarchy as explained above.
B41: (d) | C41: Functional and presentation currency
C42: These Ind AS Financial Statements are prepared in Indian Rupee which is the Company’s functional currency.
A44: 2.2 | B44: SIGNIFICANT ACCOUNTING POLICIES
B45: (a) | C45: Income Recognition
B46: (i) | C46: Revenue from sale of goods
C47: Revenue is measured at the fair value of the consideration received or receivable, net of discounts, volume rebates, outgoing sales taxes and other indirect taxes excluding excise duty.
C48: Revenue from sale of goods is recognised when all significant risks and rewards of ownership of the goods sold are transferred to the customer which generally coincides with delivery.
...

Sheet FA
A1: =+BS!A1 -> 1908 E-Ventures Private Limited
A2: Notes forming part of the financial statements
A3: =BS!A3 -> [Currency: Indian Rupees(Rs.'000)]
A5: 3. Property Plant & Equipment
B7: Gross block - at cost | H7: Depreciation/ Amortisation | M7: Net block
B8: As at | C8: GAAP | G8: As at | H8: As at | I8: For the | L8: As at | M8: As at
A9: Particulars | B9: 1 April 2022 | C9: Adjustments | D9: Additions | E9: Adjustments | F9: Deductions | G9: 31 March 2023 | H9: 1 April 2022 | I9: year | J9: Adjustments | K9: Deductions | L9: 31 March 2023 | M9: 31 March 2023
A11: Tangible assets
A13: Computers | B13: 1354117 | D13: 705874 | E13: 0 | F13: 169407 | G13: =ROUND(B13+D13+E13-F13-C13,0) -> 1890584 | H13: 781244 | I13: =598163+6630 -> 604793 | J13: =6630*0 -> 0 | K13: 126639 | L13: =ROUND(H13+I13+J13-K13,0) -> 1259398 | M13: =G13-L13 -> 631186
A15: Furniture and fixtures | B15: 1065072 | D15: 111300 | E15: 0 | F15: 0 | G15: =ROUND(B15+D15+E15-F15-C15,0) -> 1176372 | H15: 888571 | I15: 134972 | J15: =55507*0 -> 0 | K15: 0 | L15: =ROUND(H15+I15+J15-K15,0) -> 1023543 | M15: =G15-L15 -> 152829
A17: Electrical installations | B17: 187694 | D17: 0 | E17: 0 | F17: 0 | G17: =ROUND(B17+D17+E17-F17-C17,0) -> 187694 | H17: 157361 | I17: 7852 | J17: 0 | K17: 0 | L17: =ROUND(H17+I17+J17-K17,0) -> 165213 | M17: =G17-L17 -> 22481
A19: Office equipments | B19: 749321 | D19: 140169 | E19: 0 | F19: 0 | G19: =ROUND(B19+D19+E19-F19-C19,0) -> 889490 | H19: 567317 | I19: =128288+11113 -> 139401 | J19: =11113*0 -> 0 | K19: 0 | L19: =ROUND(H19+I19+J19-K19,0) -> 706718 | M19: =G19-L19 -> 182772 | O19: 15906 | P19: Extra Entry
O21: 28000 | P21: Extra Entry
A23: Total | B23: =SUM(B13:B20) -> 3356204 | C23: =SUM(C13:C20) -> 0 | D23: =SUM(D13:D20) -> 957343 | E23: =SUM(E13:E20) -> 0 | F23: =SUM(F13:F20) -> 169407 | G23: =SUM(G13:G20) -> 4144140 | H23: =SUM(H13:H20) -> 2394493 | I23: =SUM(I13:I20) -> 887018 | ... M23: =SUM(M13:M20) -> 989268 | O23: =+M23+M58 -> 15634555
B26: Gross block - at cost | H26: Depreciation/ Amortisation | M26: Net block
B27: As at | C27: GAAP | G27: As at | H27: As at | I27: For the | L27: As at | M27: As at
A28: Particulars | B28: 1 April 2021 | C28: Adjustments | D28: Additions | E28: Adjustments | F28: Deductions | G28: 31 March 2022 | H28: 1 April 2021 | I28: year | J28: Adjustments | K28: Deductions | L28: 31 March 2022 | M28: 31 March 2022
A30: Tangible assets
A32: Computers | B32: 803315 | D32: 506281 | E32: 44521 | F32: 0 | G32: =ROUND(B32+D32+E32-F32-C32,0) -> 1354117 | H32: 506141 | I32: 230582 | J32: 44521 | K32: 0 | L32: =ROUND(H32+I32+J32-K32,0) -> 781244 | M32: =G32-L32 -> 572873
A34: Furniture and fixtures | B34: 993947 | D34: 0 | E34: 71125 | F34: 0 | G34: =ROUND(B34+D34+E34-F34-C34,0) -> 1065072 | H34: 708852 | I34: 108594 | J34: 71125 | K34: 0 | L34: =ROUND(H34+I34+J34-K34,0) -> 888571 | M34: =G34-L34 -> 176501
A36: Electrical installations | B36: 168499 | D36: 0 | E36: 19195 | F36: 0 | G36: =ROUND(B36+D36+E36-F36-C36,0) -> 187694 | H36: 127571 | I36: 10595 | J36: 19195 | K36: 0 | L36: =ROUND(H36+I36+J36-K36,0) -> 157361 | M36: =G36-L36 -> 30333
A38: Office equipments | B38: 634116 | D38: 119246 | E38: 28259 | F38: 32300 | G38: =ROUND(B38+D38+E38-F38-C38,0) -> 749321 | H38: 519061 | I38: 49732 | J38: 28259 | K38: 29735 | L38: =ROUND(H38+I38+J38-K38,0) -> 567317 | M38: =G38-L38 -> 182004 | O38: 15906 | P38: Extra Entry
A42: Total | B42: =SUM(B32:B39) -> 2599877 | C42: =SUM(C32:C39) -> 0 | D42: =SUM(D32:D39) -> 625527 | E42: =SUM(E32:E39) -> 163100 | F42: =SUM(F32:F39) -> 32300 | G42: =SUM(G32:G39) -> 3356204 | H42: =SUM(H32:H39) -> 1861625 | I42: =SUM(I32:I39) -> 399503 | ... M42: =SUM(M32:M39) -> 961711
B44: Gross block - at cost | H44: Depreciation/ Amortisation | M44: Net block
B45: As at | C45: GAAP | G45: As at | H45: As at | I45: For the | L45: As at | M45: As at
A46: Particulars | B46: =+B9 -> 1 April 2022 | C46: Adjustments | D46: Additions | E46: Adjustments | F46: Deductions | G46: =+G9 -> 31 March 2023 | H46: =+H9 -> 1 April 2022 | I46: year | J46: Adjustments | K46: Deductions | L46: =+L9 -> 31 March 2023 | M46: =+M9 -> 31 March 2023
A49: Intangible assets
A51: Computer software | B51: 284438 | C51: - | D51: 136500 | E51: 0 | F51: 0 | G51: =B51+D51+E51-F51 -> 420938 | H51: 278349 | I51: 19694 | J51: 0 | K51: 0 | L51: =H51+I51+J51-K51 -> 298043 | M51: =G51-L51 -> 122895
A53: Brand acquisition | B53: 18525600 | D53: 0 | E53: 0 | F53: 0 | G53: =B53+D53+E53-F53 -> 18525600 | H53: 1358428 | I53: 2644780 | J53: 0 | K53: 0 | L53: =H53+I53+J53-K53 -> 4003208 | M53: =G53-L53 -> 14522392
A55: Website Development | B55: 927056 | C55: - | D55: 0 | E55: 0 | F55: 0 | G55: =B55+D55+E55-F55 -> 927056 | H55: 927056 | I55: 0 | J55: 0 | K55: 0 | L55: =H55+I55+J55-K55 -> 927056 | M55: =G55-L55 -> 0
A58: Total | B58: =SUM(B51:B55) -> 19737094 | C58: =SUM(C51:C55) -> 0 | D58: =SUM(D51:D55) -> 136500 | E58: =SUM(E51:E55) -> 0 | F58: =SUM(F51:F55) -> 0 | G58: =SUM(G51:G55) -> 19873594 | H58: =SUM(H51:H55) -> 2563833 | I58: =SUM(I51:I55) -> 2664474 | ... M58: =SUM(M51:M55) -> 14645287
B60: Gross block - at cost | H60: Depreciation/Amortisation | M60: Net block
B61: As at | C61: GAAP | G61: As at | H61: As at | I61: For the | L61: As at | M61: As at
A62: Particulars | B62: =+B28 -> 1 April 2021 | C62: Adjustments | D62: Additions | E62: Adjustments | F62: Deductions | G62: =+G28 -> 31 March 2022 | H62: =+H28 -> 1 April 2021 | I62: year | J62: Adjustments | K62: Deductions | L62: =+L28 -> 31 March 2022 | M62: =+M28 -> 31 March 2022
A65: Intangible assets
A67: Computer software | B67: 284438 | C67: 0 | D67: 0 | E67: 0 | F67: 0 | G67: =B67+D67+E67-F67 -> 284438 | H67: 222560 | I67: 55789 | J67: 0 | K67: 0 | L67: =H67+I67+J67-K67 -> 278349 | M67: =G67-L67 -> 6089
A69: Brand acquisition | B69: 6000000 | D69: 12525600 | E69: 0 | G69: =B69+D69+E69-F69 -> 18525600 | H69: 500000 | I69: 858428 | L69: =H69+I69+J69-K69 -> 1358428 | M69: =G69-L69 -> 17167172
A71: Website Development | B71: 927056 | D71: 0 | E71: 0 | F71: 0 | G71: =B71+D71+E71-F71 -> 927056 | H71: 927056 | I71: 0 | J71: 0 | K71: 0 | L71: =H71+I71+J71-K71 -> 927056 | M71: =G71-L71 -> 0
A74: Total | B74: =SUM(B67:B71) -> 7211494 | C74: =SUM(C67:C71) -> 0 | D74: =SUM(D67:D71) -> 12525600 | E74: =SUM(E67:E71) -> 0 | F74: =SUM(F67:F71) -> 0 | G74: =SUM(G67:G71) -> 19737094 | H74: =SUM(H67:H71) -> 1649616 | I74: =SUM(I67:I71) -> 914217 | ... M74: =SUM(M67:M71) -> 17173261
A80: 0

Sheet Employee benefits Note 35
A1: 1908 E-Ventures Private Limited
A2: Notes forming part of the financial statements
A3: =BS!A3 -> [Currency: Indian Rupees(Rs.'000)]
A5: =+Notes!A522+1 -> 35 | B5: Employee Benefits
B7: (i) Defined Contribution Plans: Provident Fund is a defined contribution scheme and the contributions as required by the statute are charged to the Statement of Profit and Loss as incurred. The contributions are made to a government administered Provident Fund.
B8: The Company recognised Rs. 921.02 (previous year Rs. 641.46) for Provident Fund contribution in the Statement of Profit and Loss. | I8: =+Notes!C442 -> 921025 | J8: =+Notes!D442 -> 641468
B10: (ii) Defined Benefit Plan:
B11: Liability towards long term defined employee benefits - leave encashment and gratuity are determined on actuarial valuation by independent actuaries at the year-end by using Projected Unit Credit method. Liability so determined is not funded.
B13: Gratuity
B14: A. Movement in net defined benefit (asset) liability
B16: The following table shows a reconciliation from the opening balances to the closing balances for net defined benefit (asset) liability and its components:
E17: Defined benefit obligation (Rs.)
B18: Particulars | E18: 31st March, 2023 | F18: 31st March, 2022 | G18: April 1, 2015
B19: Opening balance | E19: =+F38 -> 477450 | F19: =403312+607 -> 403919 | G19: =F19 -> 403919 | J19: 303312 | K19: 90033 | L19: 90033
B20: Included in profit or loss | G20: =ROUND(G14/G18,2) -> #VALUE! | L20: #VALUE!
B21: Current service cost | E21: 175419 | F21: 161311 | G21: 0 | J21: 116841 | K21: 39275 | L21: 0
B22: Interest cost | E22: 34991 | F22: 27675 | G22: 0 | J22: 20396 | K22: 7018 | L22: 0
E24: =SUM(E21:E23) -> 210410 | F24: =SUM(F21:F23) -> 188986 | G24: =SUM(G19:G22) -> #VALUE! | J24: 137237 | K24: 46293 | L24: #VALUE!
B25: Included in OCI
B26: Opening balance | E26: =F32 -> 157058 | F26: 155397 | J26: 192027 | K26: 25041
B27: Remeasurement loss or (gain):
B28: Actuarial loss or (gain) arising from:
B29: Changes in demographic assumptions | F29: 0 | G29: 0 | K29: 0 | L29: 0
B30: Financial assumptions | E30: -13597 | F30: -42918 | G30: 0 | J30: -12010 | K30: 52840 | L30: 0
B31: Experience adjustment | E31: 56046 | F31: 44579 | G31: 0 | J31: -24620 | K31: 114146 | L31: 0
E32: =SUM(E26:E31) -> 199507 | F32: =SUM(F26:F31) -> 157058 | G32: =SUM(G26:G31) -> 0 | J32: 155397 | K32: 192027 | L32: 0
B33: Other
B34: Liability Taken Over of Employees | E34: 0 | F34: 0
B35: Contributions paid by the employer
B36: Benefits paid | E36: 0 | F36: -117116 | G36: 0
E37: =SUM(E34:E36) -> 0 | F37: =SUM(F34:F36) -> -117116
B38: Closing balance | E38: =+E19+E24+E32-E26 -> 730309 | F38: =+F19+F24+F32-F26+F36 -> 477450 | G38: =+G24+G32+G36 -> #VALUE!
B40: B. Defined benefit obligations
B41: i. Actuarial assumptions
B42: The following were the weighted average assumptions used to determine benefit obligations at the reporting date.
E43: 31st March, 2023 | F43: 31st March, 2022 | G43: April 1, 2015
B44: Discount rate | E44: 0.075 | F44: 0.074 | G44: 0.0798
B45: Salary escalation rate | E45: 0.075 | F45: 0.075 | G45: 0.105
B46: Employee turnover rate | D46: Age(Years)
D47: 21-30 | E47: 0.05 | F47: 0.05
...

Sheet Note 36
A1: 1908 E ventures Pvt. Ltd
A2: Notes forming part of the financial statements
A3: =BS!A3 -> [Currency: Indian Rupees(Rs.'000)]
A4: =+'Employee benefits Note 35'!A5+1 -> 36 | B4: Related Party Disclosures :
A5: 1 | B5: Names of related parties and description of relationship
A7: A | B7: Enterprise where control exists
A8: i) | B8: Holding Company
B9: Ador Multiproduct Limited
A11: B | B11: Others related party withwhom transactions have been taken place during the year
A12: i) | B12: 3D Future Technologies Pvt Ltd
A13: ii) | B13: Ador Powertron Ltd
A14: iii) | B14: Ador Welding Ltd
A15: iv) | B15: Ador Fontech Ltd
A16: v) | B16: Aditya Malkani
A17: vi) | B17: Shirin Neterwala Malkani
A18: vii) | B18: Anatomicals Ador India Pvt Ltd
A19: viii) | B19: Aruna Advani
A20: ix) | B20: 23 Yards India Pvt Ltd
A21: x) | B21: Every Last Details
A22: xi) | B22: Expressphotos
... A26: ii) | B26: Key management personnel (KMP)
B27: Deep Lalvani
B28: Ninotchka Nagpal
B29: Tanya Advani
A31: iii) | B31: Relatives of Key Management Personnel where transactions have taken place
B32: Reshma Lalvani
A34: B) | B34: Transactions with related parties for the year are as follows:
B36: Transaction during the year | C36: Holding Company | D36: Key management personnel (KMP) | E36: Relatives of Key Management Personnel | F36: Other related parties
B37: Purchases of Goods (Gross)
B38: Ador Multi Products Ltd. | C38: 1109218
C39: -2048416
B40: Ador Multi Products Ltd. - Santic | C40: 0
C41: -143000
B42: Anatomicals Ador India Pvt Ltd | F42: 700439
F43: -574093
B44: 23 Yards India Pvt Ltd | F44: 0
F45: -157762
B46: Every Last Details | F46: 1028500
F47: 0
B48: Expressphotos | F48: 733115
...

Sheet Note 37 ratios
A1: 1908 E-Ventures Private Limited
A2: Notes forming part of the financial statements
A3: =FA!A3 -> [Currency: Indian Rupees(Rs.'000)]
A6: ='Note 36'!A4+1 -> 37 | B6: Ratios
B8: Particulars | C8: Numerator | D8: Denominator | E8: Ratio Current period | F8: Ratio Previous period | G8: % of Variance
B9: Current Ratio | C9: Current Assets | D9: Current Liabilities | E9: =BS!D26/BS!D52 -> 0.837842 | F9: =BS!E26/BS!E52 -> 2.2707842 | G9: =(E9-F9)/F9 -> -0.63103407
B10: Debt-Equity ratio | C10: Total Debt | D10: Shareholder’s Equity | E10: =(BS!D41+BS!D46)/BS!D35 -> 1.6038426 | F10: =(BS!E41+BS!E46)/BS!E35 -> 0.059150707 | G10: =(E10-F10)/F10 -> 26.114514
B11: Debt service coverage ratio | C11: Earnings available for debt service | D11: Debt Service | E11: =(PL!D23+PL!D16+PL!D17)/(BS!D46+PL!D16) -> -4.1453004 | F11: =(PL!E23+PL!E16+PL!E17)/(BS!E46+PL!E16) -> -7.2937795 | G11: =(E11-F11)/F11 -> -0.43166634
B12: Return on equity ratio | C12: Net Profits after taxes – Preference Dividend (if any) | D12: Average Shareholder’s Equity | E12: =PL!D27/((BS!D35+BS!E35)/2) -> -1.6116008 | F12: =PL!E27/((BS!E35+BS!F35)/2) -> -2.6554051 | G12: =(E12-F12)/F12 -> -0.39308665
B13: Inventory turnover ratio | C13: Cost of goods sold OR sales | D13: Average Inventory | E13: =(PL!D13+PL!D14)/((BS!D20+BS!E20)/2) -> 1.7696477 | F13: =(PL!E13+PL!E14)/((BS!E20+BS!F20)/2) -> 2.1708904 | G13: =(E13-F13)/F13 -> -0.18482864
B14: Trade receivables turnover ratio | C14: Net Credit Sales | D14: Average Accounts Receivable | E14: =(PL!D8)/((BS!D22+BS!E22)/2) -> 17.450107 | F14: =(PL!E8)/((BS!E22+BS!F22)/2) -> 13.334379 | G14: =(E14-F14)/F14 -> 0.30865547
B15: Trade payables turnover ratio | C15: Net Credit Purchases | D15: Average Trade Payables | E15: =PL!D13/((BS!D48+BS!D49+BS!E49+BS!E48)/2) -> 1.2015015 | F15: =PL!E13/((BS!E48+BS!E49+BS!F49+BS!F48)/2) -> 2.2211127 | G15: =(E15-F15)/F15 -> -0.45905422
B16: Net capital turnover ratio | C16: Net Sales | D16: Average Working Capital | E16: =PL!D8/((BS!D35+BS!E35)/2) -> 1.4779865 | F16: =PL!E8/((BS!E35+BS!F35)/2) -> 2.8473091 | G16: =(E16-F16)/F16 -> -0.48091814
B17: Net profit ratio | C17: Net Profit | D17: Net Sales | E17: =PL!D27/PL!D8 -> -1.0904029 | F17: =PL!E27/PL!E8 -> -0.93260159 | G17: =(E17-F17)/F17 -> 0.16920547
B18: Return on capital employed | C18: Earning before interest and taxes | D18: Net Sales | E18: =(PL!D21+PL!D16)/PL!D8 -> -1.0726011 | F18: =(PL!E21+PL!E16)/PL!E8 -> -0.86146854 | G18: =(E18-F18)/F18 -> 0.24508442
B19: Return on investment | C19: {MV(T1) – MV(T0) – Sum [C(t)]} | D19: {MV(T0) + Sum [W(t) * C(t)]} | E19: NA | F19: NA
B21: For Retun on investments
B22: T1 = End of time period
B23: T0 = Beginning of time period
B24: t = Specific date falling between T1 and T0
B25: MV(T1) = Market Value at T1
B26: MV(T0) = Market Value at T0
B27: C(t) = Cash inflow, cash outflow on specific date
B28: W(t) = Weight of the net cash flow (i.e. either net inflow or net outflow) on day ‘t’, calculated as [T1 – t] / T1

Sheet Note 38 FVM_1
A1: 1908 E-Ventures Private Limited
A2: Notes forming part of the financial statements
A3: =BS!A3 -> [Currency: Indian Rupees(Rs.'000)]
A5: ='Note 37 ratios'!A6+1 -> 38 | B5: Fair value measurements
A6: 1 | B6: Financial instruments by category:
B8: Particulars | C8: As at 31st March, 2023 | E8: As at 31st March, 2022
C9: FVTPL | D9: Amortised cost | E9: FVTPL | F9: Amortised cost
B10: Financial Assets - Non Current
B11: Other non-current financial assets | C11: =+Notes!C63 -> 275926 | D11: =+Notes!C62+Notes!C61 -> 129044 | E11: =+Notes!D63 -> 132339 | F11: =+Notes!D61+Notes!D62 -> 125000
B13: Financial Assets - Current
B14: Trade receivables | D14: =BS!D22 -> 2662259 | F14: =BS!E22 -> 4706908
B15: Cash and cash equivalents | D15: =BS!D23 -> 43169 | F15: =BS!E23 -> 41102092
B16: Other Bank balances
B17: Other current financial asset | D17: =BS!D24 -> 3679 | F17: =BS!E24 -> 93710
B18: Financial Liabilities - Non Current
B19: Long-term borrowings | D19: =+BS!D40 -> 0 | F19: =+BS!E40 -> 0
B20: Financial Liabilities - Current
B21: Trade payables | D21: =BS!D48+BS!D49 -> 48366092 | F21: =BS!E48+BSE28 -> 5514596
B22: Other current financial liabilities | D22: =BS!D50 -> 1893151 | F22: =BS!E50 -> 1762027
B24: I. Fair value hierarchy
B25: The fair values of the financial assets and liabilities are included at the amount that would be received to sell an asset or paid to transfer a liability in an orderly transaction between market participants at the measurement date. This section explains the judgements and estimates made in determining the fair values of the financial instruments that are (a) recognised and measured at fair value and (b) measured at amortised cost and for which fair values are disclosed in the financial statements. To provide an indication about the reliability of the inputs used in determining fair value, the group has classified its financial instruments into the three levels prescribed under the accounting standard. An explanation of each level follows underneath the table.
B26: Level 1: Level 1 hierarchy includes financial instruments measured using quoted prices. For example, listed equity instruments that have quoted market price.
B27: Level 2: The fair value of financial instruments that are not traded in an active market (for example, traded bonds, over-the- counter derivatives) is determined using valuation techniques which maximise the use of observable market data and rely as little as possible on entity-specific estimates. If all significant inputs required to fair value an instrument are observable, the instrument is included in level 2.
B28: Level 3: If one or more of the significant inputs is not based on observable market data, the instrument is included in level 3. This is the case for unlisted equity securities, contingent consideration and indemnification asset included in level 3.
B29: II. Valuation techniques used to determine fair value
B30: The fair values of security deposits are based on discounted cash flows using a discount rate being incremental borrowing rate (refer note III below)
B31: III. Financial assets and liabilities measured at fair value Fair value hierarchy - recurring fair value measurement:
B33: Particulars | C33: =++C8 -> As at 31st March, 2023 | F33: =+E8 -> As at 31st March, 2022 | I33: 42461
C34: Level 1 | D34: Level 2 | E34: Level 3 | F34: Level 1 | G34: Level 2 | H34: Level 3 | I34: Level 1 | J34: Level 2 | K34: Level 3
B35: Financial Assets - Non-current
B36: Deposits | C36: 0 | D36: 0 | E36: =+C11 -> 275926 | F36: 0 | G36: 0 | H36: =+E11 -> 132339 | J36: 0 | K36: 0
I37: 0 | J37: 0
B39: IV. Financial assets and liabilities measured at amortised cost for which fair values are disclosed:
B41: Particulars | C41: =+C33 -> As at 31st March, 2023 | F41: =+F33 -> As at 31st March, 2022 | I41: 42461
C42: Level 1 | D42: Level 2 | E42: Level 3 | F42: Level 1 | G42: Level 2 | H42: Level 3 | I42: Level 1 | J42: Level 2 | K42: Level 3
B43: Financial liabilities - Non-current
B44: Fully Compulsorily Convertible debentures | C44: 0 | D44: 0 | E44: =+D19 -> 0 | F44: 0 | G44: 0 | H44: =+F19 -> 0
B47: Note:
B48: During the periods mentioned above, there have been no transfers amongst the levels of hierarchy.
B49: The carrying amounts of trade receivables, cash and bank balances, other bank balances, non-current loans, current loans, other current financial asset, trade payables and other current financial liabilities are considered to be approximately equal to the fair value.
...

Sheet Note 38 FRM1_credit & liquidity
A1: 2 | B1: Financial risk management
B3: The Company’s principal financial liabilities comprise deposits, trade and other payables. The main purpose of these financial liabilities is to finance the Company’s operations. The Company’s principal financial assets include current loans, trade and other receivables, and cash and cash equivalents that derive directly from its operations. The Company is exposed to credit risk, market risk and liquidity risk. The Company’s senior management oversees the management of these risks.
A5: A | B5: Credit risk
B6: The company is exposed to credit risk from its operating activities (primarily for trade receivables) and from its financing activities (deposits with banks and other financial instruments).
B8: Credit risk management
B9: To manage credit risk, the Company follows a policy of providing 30-180 days credit to the customers basis the nature of customers. The credit limit policy is established considering the current economic trends of the industry in which the company is operating. However, the trade receivables are monitored on a periodic basis for assessing any significant risk of non-recoverability of dues and provision is created accordingly.
B10: Bank balances are held with only high rated banks and majority of other security deposits are placed majorly with government agencies/public sector undertakings.
B12: Age of receivables that are past due:
B13: Particulars | D13: =+Notes!C6 -> As at 31st March, 2023 | E13: =+Notes!D6 -> As at 31st March, 2022
B14: Upto 30 days | D14: 1045430 | E14: 3583245
B15: 30-60 days | D15: 1120823 | E15: 42102
B16: 60-90 days | D16: 111587 | E16: 474056
B17: More than 90 days | D17: 384419 | E17: 607505
B18: Total | D18: =SUM(D14:D17) -> 2662259 | E18: =SUM(E14:E17)+8 -> 4706916
A20: B | B20: Liquidity risk
B21: Liquidity risk is defined as the risk that the Company will not be able to settle or meet its obligations on time or at a reasonable price. For the Company, liquidity risk arises from obligations on account of financial liabilities – trade payables and other financial liabilities.
B23: Liquidity risk management
B24: The Company’s management is responsible for liquidity and funding as well as settlement management. In addition, processes and policies related to such risks are overseen by senior management. Management monitors the Company’s net liquidity position through rolling forecasts on the basis of expected cash flows.
A26: C | B26: Market risk
A28: (i) | B28: Price Risk
B29: The company is not exposed to any price risk.
B31: To manage its price risk arising from the investment, the Company has invested in the mutual fund and equity shares after considering the risk and return profile of the mutual funds and equity shares i.e. the debt profile indicates that the debt has been given to creditworthy parties and equity investment is made after considering the performance of the stock.. However, the entity being risk averse has opted to invest its substantial funds in debt oriented mutual funds.
B33: Sensitivity | D33: 2018-19 | E33: 2017-18
B34: Impact on profit after tax for 5% increase in NAV/price | D34: 0 | E34: =SUM('Note 38 FVM_1'!C39:C39)*5% -> 0
B35: Impact on profit after tax for 5% decrease in NAV/Price | D35: 0 | E35: =-SUM('Note 38 FVM_1'!C39:C39)*5% -> 0
A38: =+A1+1 -> 3 | B38: Capital Management
A40: a | B40: Risk management
B41: The company’s objectives when managing capital are to • safeguard their ability to continue as a going concern, so that they can continue to provide returns for shareholders and benefits for other stakeholders, and • maintain an optimal capital structure to reduce the cost of capital. Apart from trade payables and other current liabilities, there is no debt on the company. Therefore, the company manages its capital and return to shareholders by adequately investing in mutual funds and equity shares and adjusting the amount of dividend paid to the shareholders.

Sheet Note 38 FRM2_Currency & price
A1: C | B1: Market risk
A3: (i) | B3: Price Risk
B4: The company is exposed to price risk from its investment in mutual fund, investment in equity shares and investment in preference shares classified in the balance sheet at fair value through profit and loss.
B6: To manage its price risk arising from the investment, the Company has invested in the mutual fund and equity shares after considering the risk and return profile of the mutual funds and equity shares i.e. the debt profile indicates that the debt has been given to creditworthy parties and equity investment is made after considering the performance of the stock.. However, the entity being risk averse has opted to invest its substantial funds in debt oriented mutual funds.
B8: Sensitivity | F8: =+Notes!C6 -> As at 31st March, 2023 | G8: =+Notes!D6 -> As at 31st March, 2022
B9: Impact on profit after tax for 5% increase in NAV/price | F9: 0 | G9: =SUM('Note 38 FVM_1'!E13:E13)*5% -> 0
B10: Impact on profit after tax for 5% decrease in NAV/Price | F10: 0 | G10: =-SUM('Note 38 FVM_1'!E13:E13)*5% -> 0
A13: 3 | B13: Capital Management
A15: a | B15: Risk management
B16: The company’s objectives when managing capital are to • safeguard their ability to continue as a going concern, so that they can continue to provide returns for shareholders and benefits for other stakeholders, and • maintain an optimal capital structure to reduce the cost of capital. Apart from trade payables and other current liabilities, there is no debt on the company. Therefore, the company manages its capital and return to shareholders by adequately investing in mutual funds and equity shares and adjusting the amount of dividend paid to the shareholders.

Sheet Notes 39 to 41
A1: 1908 E-Ventures Private Limited
A2: Notes forming part of the financial statements
A3: =BS!A3 -> [Currency: Indian Rupees(Rs.'000)]
A5: ='Note 38 FVM_1'!A5+1 -> 39 | B5: Contingent liabilities and Commitments
B7: (a) Contingent liabilities
B8: There is no contingent liabilities of the company for the reporting periods.
B10: (b) Commitments
B11: For operating lease commitments, Refer Note 34
A13: =+A5+1 -> 40 | B13: Segment Information
B14: The Company is engaged in the business of trading of personal care products. The performance of the Company is assessed and reviewed by the Chief Operating Decision Maker (‘CODM’) as a single operating segment and accordingly "Personal care products" is the only operating segment.
B15: The company is domiciled in India. The amount of it's revenue from external customer broken down by location of the customers is shown in table below:
F16: (Amount in Rs.)
