Workbook
Name \0: [1]TOTAL!#REF!
Name \0: [1]TOTAL!#REF!
Name \0: [1]TOTAL!#REF!
Name \A: #REF!
Name \A: #REF!
Name \A: #REF!
Name \A: #REF!
Name \B: #REF!
Name \B: #REF!
Name \B: #REF!
Name \B: #REF!
Name \C: #REF!
Name \C: #REF!
Name \C: #REF!
Name \C: #REF!
Name \f: #REF!
Name \f: #REF!
Name \f: #REF!
Name \g: #REF!
Name \g: #REF!
Name \g: #REF!
Name \H: #REF!
Name \H: #REF!
Name \H: #REF!
Name \H: #REF!
Name \M: #REF!
Name \M: #REF!
Name \M: #REF!
Name \M: #REF!
Name \p: '[2]CMA DATA'!#REF!
Name \p: '[2]CMA DATA'!#REF!
Name \p: '[2]CMA DATA'!#REF!
Name \p: '[2]CMA DATA'!#REF!
Name \q: '[2]CMA DATA'!#REF!
Name \q: '[2]CMA DATA'!#REF!
Name \q: '[2]CMA DATA'!#REF!
Name \q: '[2]CMA DATA'!#REF!
Name \r: #REF!
Name \r: #REF!
Name \r: #REF!
Name \s: '[2]CMA DATA'!#REF!
Name \s: '[2]CMA DATA'!#REF!
Name \s: '[2]CMA DATA'!#REF!
Name \s: '[2]CMA DATA'!#REF!
Name \t: #REF!
Name \t: #REF!
Name \t: #REF!
Name \v: [3]PBCLIST!#REF!
Name \v: [3]PBCLIST!#REF!
Name \v: [3]PBCLIST!#REF!
Name \x: '[2]CMA DATA'!#REF!
Name \x: '[2]CMA DATA'!#REF!
Name \x: '[2]CMA DATA'!#REF!
Name \x: '[2]CMA DATA'!#REF!
Name \y: '[2]CMA DATA'!#REF!
Name \y: '[2]CMA DATA'!#REF!
Name \y: '[2]CMA DATA'!#REF!
Name \y: '[2]CMA DATA'!#REF!
Name \Z: #REF!
Name \Z: #REF!

Sheet PL
A1: =BS!A1 -> 1908 E-Ventures Private Limited
A2: Statement of Profit and Loss
A3: For the year ended 31st March, 2024
A4: =BS!A3 -> [Currency: Indian Rupees(Rs.'000)]
B6: Particulars | C6: Notes | D6: 2023-24 | E6: Half year ended 30 September 2023 | F6: 2022-23 | G6: 2021-2022
B8: Revenue from operations | C8: =Notes!A419 -> 25 | D8: =ROUND(Notes!C424,0) -> 15762039 | E8: =ROUND(Notes!D424,0) -> 11010719 | F8: =ROUND(Notes!E424,0) -> 64296378 | G8: =ROUND(Notes!F424,0) -> 64459893
B9: Other income | C9: =Notes!A426 -> 26 | D9: =ROUND(Notes!C438,0) -> 14523522 | E9: =ROUND(Notes!D438,0) -> 8794319 | F9: =ROUND(Notes!E438,0) -> 2795332 | G9: =ROUND(Notes!F438,0) -> 1777548 | L9: 53423522 | N9: =D9-L9 -> -38900000
B10: Total income | D10: =SUM(D8:D9) -> 30285561 | E10: =SUM(E8:E9) -> 19805038 | F10: =SUM(F8:F9) -> 67091710 | G10: =SUM(G8:G9) -> 66237441 | N10: 38900000
N11: =SUM(N9:N10) -> 0
B12: Expenses
B13: Purchases of Stock-in-Trade | C13: =Notes!A440 -> 27 | D13: =ROUND(Notes!C444,0) -> -217287 | E13: =ROUND(Notes!D444,0) -> -1757563 | F13: =ROUND(Notes!E444,0) -> 49863845 | G13: =ROUND(Notes!F444,0) -> 56229180
B14: Changes in inventories | C14: =Notes!A446 -> 28 | D14: =ROUND(Notes!C455,0) -> 28060951 | E14: =ROUND(Notes!D455,0) -> 15398308 | F14: =ROUND(Notes!E455,0) -> -1787249 | G14: =ROUND(Notes!F455,0) -> -9464613
B15: Employee benefits expense | C15: =+Notes!A457 -> 29 | D15: =ROUND(Notes!C466,0) -> 6196997 | E15: =ROUND(Notes!D466,0) -> 6014031 | F15: =ROUND(Notes!E466,0) -> 21592535 | G15: =ROUND(Notes!F466,0) -> 17938915
B16: Finance costs | C16: =+Notes!A468 -> 30 | D16: =ROUND(Notes!C475,0) -> 1594982 | E16: =ROUND(Notes!D475,0) -> 457988 | F16: =ROUND(Notes!E475,0) -> 395272 | G16: =ROUND(Notes!F475,0) -> 4585229
B17: Depreciation and amortisation expense | C17: =Notes!A477 -> 31 | D17: =ROUND(Notes!C483,)+('FA sch'!I23+'FA sch'!I58)*0 -> 2370544 | E17: ='PL Grouping'!AC358 -> 1554693.5 | F17: =ROUND(Notes!E483,0) -> 3854623 | G17: =ROUND(Notes!F483,0) -> 1350262 | I17: 303131 | J17: =F17-I17 -> 3551492
B18: Other expenses | C18: =Notes!A485 -> 32 | D18: =ROUND(Notes!C517,0) -> 11406995 | E18: =ROUND(Notes!D517,0) -> 7644456 | F18: =ROUND(Notes!E517,0) -> 62532317 | G18: =ROUND(Notes!F517,0) -> 55713860
B19: Total expenses | D19: =SUM(D13:D18) -> 49413182 | E19: =SUM(E13:E18)+2 -> 29311916 | F19: =SUM(F13:F18)+2 -> 136451345 | G19: =SUM(G13:G18)+6 -> 126352839
B21: Profit before exceptional items and tax | D21: =D10-D19 -> -19127621 | E21: =E10-E19 -> -9506877.5 | F21: =F10-F19 -> -69359635 | G21: =G10-G19-1 -> -60115399
B22: Exceptional items | C22: ='Notes 43 to 48'!A22 -> 45 | D22: =-'Notes 43 to 48'!F26*-1 -> 38286826 | E22: 0 | F22: 0 | G22: 0
B23: Profit before tax | D23: =SUM(D21:D22) -> 19159205 | E23: =SUM(E21:E22) -> -9506877.5 | F23: =SUM(F21:F22) -> -69359635 | G23: =SUM(G21:G22) -> -60115399
B24: Tax expense
B25: (1) Current tax | D25: 0 | E25: 0 | F25: 0 | G25: 0
B26: (2) Deferred tax asset/(liability) | D26: =-Notes!C23 -> -7416129 | E26: -7416129 | F26: =ROUND('Deferred tax 22-23'!G14,)-4 -> -749317 | G26: 0 | I26: PY
B27: Profit for the year | D27: =D23+D25+D26 -> 11743076 | E27: =E23+E25+E26-4 -> -16923010 | F27: =F23+F25+F26-4 -> -70108956 | G27: =G23-G25+G26 -> -60115399 | H27: ='PL Grouping'!AC385-7416133 -> -15346694 | I27: -60115259
H28: =E27-H27 -> -1576316.5 | I28: =G27-I27 -> -140
B29: Other comprehensive income:
B30: Items that will not be reclassified to profit or loss | H30: =SUM(H28:H29) -> -1576316.5
B31: Remeasurement of net defined benefit liability | D31: =-'PL Grouping'!AJ363 -> 0 | E31: =-'PL Grouping'!AK363 -> 0 | F31: =-'PL Grouping'!AL363 -> -42449 | G31: =ROUND('PL Grouping'!AM361,0) -> -1661 | I31: -42449
B32: Income tax relating to items not reclassified | D32: 0 | E32: 0 | F32: 0 | G32: 0
B33: Items that will be reclassified subsequently to profit or loss | D33: 0 | E33: 0 | F33: 0 | G33: 0
B34: Income tax relating to items that will be reclassified | D34: 0 | E34: 0 | F34: 0 | G34: 0
B36: Total comprehensive income for the year | D36: =+D27+D31+D32+D34 -> 11743076 | E36: =+E27+E31+E32+E34 -> -16923010 | F36: =+F27+F31+F32+F34 -> -70151405 | G36: =+G27+G31+G32+G34 -> -60117060
B38: Earnings per share | C38: =Notes!A519 -> 33
B39: Basic earnings (loss) per share | D39: =Notes!C527 -> 1.9507941 | E39: =Notes!D527 -> -2.8113 | F39: =Notes!E527 -> -11.79439 | G39: =Notes!F527 -> -10.11318
B40: Diluted earnings (loss) per share | D40: =+Notes!C528 -> 1.9507941 | E40: =+Notes!D528 -> -2.8113 | F40: =+Notes!E528 -> -11.79439 | G40: =+Notes!F528 -> -10.11318
B42: The accompanying notes are integral part of the financial statements (all amounts in rupees)
C43: =BS!C56 -> 1 to 48
B44: In terms of our report on even date attached
B47: For Sunil Modi & Co | C47: For and on behalf of the Board of Directors
B48: Chartered Accountants
...

Sheet BS
A1: 1908 E-Ventures Private Limited
A2: Balance Sheet as at 31st March, 2024
A3: [Currency: Indian Rupees(Rs.'000)]
B5: Particulars | C5: Notes | D5: As at 31st March 2024 | E5: As at 30 Sep 2023 | F5: As at 31st March, 2023 | G5: As at 31st March, 2022 | H5: 31.3.2021 | I5: 31.3.2020
A6: I | B6: ASSETS
A8: (1) | B8: Non-current assets
B9: (a) Property, Plant and Equipment | C9: =LEFT('FA prev year'!A5,1) -> 3 | D9: ='FA sch'!M23 -> 179690.05 | E9: ='FA sep'!M23 -> 636036 | F9: =+'FA prev year'!M23 -> 989268 | G9: =ROUND('FA prev year'!M42,0) -> 961711 | H9: 738252 | I9: 694465 | K9: 19057258 | L9: =F9+F10 -> 15634555 | Q9: ='BS Grouping'!K109 -> 12815438 | R9: =D9+D10 -> 12815438
B10: (b) Intangible assets | C10: =LEFT('FA prev year'!A5,1) -> 3 | D10: ='FA sch'!M58 -> 12635748 | E10: ='FA sep'!M58 -> 13305604 | F10: =+'FA prev year'!M58 -> 14645287 | G10: =ROUND('FA prev year'!M74,0) -> 17173261 | H10: 5561878 | I10: 104763 | K10: 0 | L10: =K9-L9 -> 3422702.8 | R10: =Q9-R9 -> -0.48
B11: (c) Right-of-use asset | C11: =+Notes!A5 -> 4 | D11: =ROUND(Notes!C18,0) -> 0 | E11: =ROUND(Notes!D18,0) -> 0 | F11: =ROUND(Notes!E18,0) -> 569719 | G11: =+Notes!F18 -> 872850 | H11: 0 | L11: =PL!J17 -> 3551492
B12: (d) Deferred tax Assets (Net) | C12: =Notes!A20 -> 5 | D12: =ROUND(Notes!C33,0) -> 0 | E12: =ROUND(Notes!D33,0) -> 0 | F12: =ROUND(Notes!E33,0) -> 7416129 | G12: =ROUND(Notes!F33,0) -> 8165446 | H12: 8165446 | I12: 8165446 | L12: =L10-L11 -> -128789.22
B13: (e) Non-current financial assets
B14: (i) Investments | C14: =Notes!A47 -> 6 | D14: =ROUND(Notes!C55,0) -> 0 | E14: =ROUND(Notes!D55,0) -> 0 | F14: =ROUND(Notes!E55,0) -> 40000 | G14: 0 | O14: sep
B15: (ii) Other financial assets | C15: =Notes!A58 -> 7 | D15: =ROUND(Notes!C65,0) -> 0 | E15: =ROUND(Notes!D65,0) -> 140338 | F15: =ROUND(Notes!E65,0) -> 404970 | G15: =ROUND(Notes!F65,0) -> 257339 | H15: 252378 | I15: 474594 | P15: Ok
B16: (f) Other non-current tax assets | C16: =Notes!A68 -> 8 | D16: =ROUND(Notes!C73,0) -> 44148 | E16: =ROUND(Notes!D73,0) -> 159162 | F16: =ROUND(Notes!E73,0) -> 164666 | G16: =ROUND(Notes!F73,0) -> 51405 | H16: 138253 | I16: 458647 | P16: Ok
B17: (g) Other non-current assets | C17: =Notes!A75 -> 9 | D17: =ROUND(Notes!C80,0) -> 0 | E17: =ROUND(Notes!D80,0) -> 0 | F17: =ROUND(Notes!E80,0) -> 12351 | G17: =ROUND(Notes!F80,0) -> 27088 | H17: 11004 | I17: 15133 | O17: =(F17-D17)+(F16-D16)+(F15-D15) -> 537839 | P17: Ok
D18: =SUM(D9:D17) -> 12859586 | E18: =SUM(E9:E17) -> 14241140 | F18: =SUM(F9:F17)+10 -> 24242400 | G18: =SUM(G9:G17) -> 27509100 | H18: =SUM(H9:H17) -> 14867211 | I18: =SUM(I9:I17) -> 9913048
A19: (2) | B19: Current assets
B20: (a) Inventories | C20: =Notes!A82 -> 10 | D20: =ROUND(Notes!C87,0) -> 0 | E20: =ROUND(Notes!D87,0) -> 12662643 | F20: =ROUND(Notes!E87,0) -> 28060951 | G20: =ROUND(Notes!F87,0) -> 26273701 | H20: 16809604 | I20: 7412151 | O20: =D20-F20 -> -28060951 | P20: Ok | Q20: 28023073 | R20: =F20-Q20 -> 37878.34
B21: (b) Financial Assets
B22: (i) Trade receivables | C22: =Notes!A90 -> 11 | D22: =ROUND(Notes!C98,0) -> 16202 | E22: =ROUND(Notes!D98,0) -> 3072116 | F22: =ROUND(Notes!E98,0) -> 2662259 | G22: =ROUND(Notes!F98,0) -> 4706908 | H22: 4961318 | I22: 3465198 | O22: =D22-F22 -> -2646057 | P22: Ok
B23: (ii) Cash and cash equivalents | C23: =Notes!A133 -> 12 | D23: =ROUND(Notes!C144,0) -> 471884 | E23: =ROUND(Notes!D144,0) -> 2793221 | F23: =ROUND(Notes!E144,0) -> 43169 | G23: =ROUND(Notes!F144,0) -> 41102092 | H23: 212620 | I23: 895556
B24: (iii) Other current financial assets | C24: =Notes!A146 -> 13 | D24: =ROUND(Notes!C153,0) -> 25019 | E24: =ROUND(Notes!D153,0) -> 3679 | F24: =ROUND(Notes!E153,0) -> 3679 | G24: =ROUND(Notes!F153,0) -> 93710 | H24: 16949 | I24: 181851 | O24: =D24-F24 -> 21340 | P24: Ok
B25: (c) Other current assets | C25: =Notes!A155 -> 14 | D25: =ROUND(Notes!C162,0) -> 19062967 | E25: =ROUND(Notes!D162,0) -> 22955144 | F25: =ROUND(Notes!E162,0) -> 24937381 | G25: =ROUND(Notes!F162,0) -> 18652192 | H25: 8986308 | I25: 3865479 | O25: =D25-F25 -> -5874414 | P25: Ok
D26: =SUM(D20:D25) -> 19576072 | E26: =SUM(E20:E25) -> 41486803 | F26: =SUM(F20:F25)+2 -> 55707441 | G26: =SUM(G20:G25) -> 90828603 | H26: =SUM(H20:H25) -> 30986799 | I26: =SUM(I20:I25) -> 15820235 | O26: =SUM(O24:O25) -> -5853074 | P26: Ok
B28: Total Assets | D28: =D18+D26 -> 32435658 | E28: =E18+E26 -> 55727944 | F28: =F18+F26 -> 79949841 | G28: =G18+G26+2 -> 118337705 | H28: =H18+H26 -> 45854010 | I28: =I18+I26 -> 25733283 | J28: ='BS Grouping'!AC209 -> 58745966
A30: II | B30: EQUITY AND LIABILITIES | J30: =J28-E28 -> 3018022.1
B32: Equity
B33: (a) Equity Share capital | C33: =Notes!A164 -> 15 | D33: =SOCE!E14 -> 60196390 | E33: =SOCE!E14 -> 60196390 | F33: =ROUND(SOCE!G14,0) -> 59945140 | G33: =SOCE!I14 -> 59442630 | H33: 31993290 | I33: 18041150
B34: (b) Other Equity | C34: =Notes!A301 -> 16 | D34: =SOCE!G29 -> -35026408 | E34: =SOCE!G41 -> -63692498 | F34: =SOCE!G54 -> -49018174 | G34: =ROUND(Notes!F316,0) -> 16635768 | H34: -62793926 | I34: -57152023 | O34: 26675356 | P34: =O34-D35 -> 1505374
D35: =SUM(D33:D34) -> 25169982 | E35: =SUM(E33:E34) -> -3496107.5 | F35: =SUM(F33:F34) -> 10926966 | G35: =SUM(G33:G34) -> 76078398 | H35: =SUM(H33:H34) -> -30800636 | I35: =SUM(I33:I34) -> -39110873 | K35: ='BS Grouping'!AC11+'BS Grouping'!AC15 -> -1372275
B36: LIABILITIES | K36: =E35-K35 -> -2123832.5
A37: (1) | B37: Non-current liabilities
B38: (a) Financial Liabilities
B39: (i) Lease liabilities | C39: =Notes!A318 -> 17 | D39: =ROUND(Notes!C321,) -> 0 | E39: =ROUND(Notes!D321,) -> 0 | F39: =ROUND(Notes!E321,) -> 275494 | G39: =ROUND(Notes!F321,) -> 601532 | H39: 0
B40: (ii) Long-term borrowings | C40: =C39+1 -> 18 | D40: =Notes!C332 -> 0 | E40: =Notes!D332 -> 25500000 | F40: 0 | H40: 30821780 | I40: 22397242 | O40: separate
B41: (b) Long-term provisions | C41: =Notes!A334 -> 19 | D41: =ROUND(Notes!C340,0) -> 0 | E41: =ROUND(Notes!D340,0) -> 1447031 | F41: =ROUND(Notes!E340,0) -> 2213525 | G41: =ROUND(Notes!F340,0) -> 1657085 | H41: 1233428 | I41: 1023460 | O41: =D41-F41 -> -2213525
D42: =SUM(D39:D41) -> 0 | E42: =SUM(E39:E41) -> 26947031 | F42: =SUM(F39:F41) -> 2489019 | G42: =SUM(G39:G41) -> 2258617 | H42: =SUM(H39:H41) -> 32055208 | I42: =SUM(I39:I41) -> 23420702
A43: (2) | B43: Current liabilities
B44: (a) Financial Liabilities
B45: (i) Lease liabilities | C45: =+C39 -> 17 | D45: =ROUND(Notes!C322,) -> 0 | E45: =ROUND(Notes!D322,) -> 0 | F45: =ROUND(Notes!E322,) -> 326038 | G45: =ROUND(Notes!F322,) -> 274741 | H45: 0
...

Sheet Cash flow
A1: =BS!A1 -> 1908 E-Ventures Private Limited
A2: Cash flow statement for the year ended 31st March, 2024
A3: =PL!A4 -> [Currency: Indian Rupees(Rs.'000)]
A4: Particulars | C4: Period ended | D4: Period ended | E4: Year ended | F4: Year ended | I4: Year ended
C5: 31st March 2024 | D5: 30th September, 2023 | E5: 31st March, 2023 | F5: 31st March, 2022 | I5: 31st March, 2022
A6: A. Cash flow from operating activities
A8: Net Profit before tax | C8: =ROUND(PL!D23,0) -> 19159205 | D8: =ROUND(PL!E23,0) -> -9506878 | E8: =ROUND(PL!F23,0) -> -69359635 | F8: =ROUND(PL!G23,0) -> -60115399 | I8: -60115259 | K8: =F8-I8 -> -140 | O8: Ok
A9: Adjustments for: | K9: =F9-I9 -> 0
A10: Depreciation and amortisation expense | C10: =ROUND(PL!D17,0) -> 2370544 | D10: =ROUND(PL!E17,0) -> 1554694 | E10: =ROUND(PL!F17,0) -> 3854623 | F10: =ROUND(PL!G17,0) -> 1350262 | I10: 1350262 | K10: =F10-I10 -> 0 | O10: Ok
A11: Interest income | C11: =ROUND(-(Notes!C430+Notes!C431+Notes!C432),0) -> -11035 | D11: =ROUND(-(Notes!D430+Notes!D431+Notes!D432),0)*0 -> 0 | E11: =ROUND(-(Notes!E430+Notes!E431+Notes!E432),0) -> -21217 | F11: =ROUND(-(Notes!F430+Notes!F431+Notes!F432),0) -> -37675 | I11: -37675 | K11: =F11-I11 -> 0 | O11: Ok
A12: Exchange (Gain)/Loss | C12: =Notes!C494 -> 548910 | D12: =Notes!D494 -> 170163 | E12: =Notes!E494 -> 38077 | F12: =Notes!F494 -> 122301 | I12: 122301 | K12: =F12-I12 -> 0 | O12: Ok
A13: Provision for Gratuity | C13: =ROUND(Notes!C462,0) -> 0 | D13: =ROUND(Notes!D462,0) -> 0 | E13: =ROUND(Notes!E462,0) -> 210410 | F13: =ROUND(Notes!F462,0) -> 188986 | I13: 188986 | K13: =F13-I13 -> 0
A14: Provision for Leave encashment | C14: =ROUND(Notes!C463,0) -> 0 | D14: =ROUND(Notes!D463,0) -> 0 | E14: =ROUND(Notes!E463,0) -> 479272 | F14: =ROUND(Notes!F463,0) -> 493373 | I14: 493373 | K14: =F14-I14 -> 0
A15: Employee stock options | C15: =ROUND(Notes!C464,0) -> 0 | D15: =ROUND(Notes!D464,0) -> 0 | E15: =ROUND(Notes!E464,0) -> 0 | F15: =ROUND(Notes!F464,0) -> 2073850 | I15: 2073850 | K15: =F15-I15 -> 0
A16: Gain on account of lease cancellation | C16: =O19 -> -31813
A17: (Profit)/loss on sale of PPE | C17: =-Notes!C433+Notes!C504 -> 223065 | D17: =-Notes!D433+Notes!D504 -> 5100 | E17: =-Notes!E433+Notes!E504 -> 0 | F17: =-Notes!F433+Notes!F504 -> -2435 | I17: 0 | K17: =F17-I17 -> -2435
A18: Sundry balances written back/written-off | C18: =ROUND(-Notes!C435,0) -> -14100590 | D18: =ROUND(-Notes!D436,0) -> -8706412 | E18: =ROUND(-Notes!E435,0) -> -40825 | F18: =ROUND(-Notes!F435,0) -> -269244 | I18: -269245 | K18: =F18-I18 -> 1
A19: Operating profit before working capital changes | C19: =SUM(C8:C18) -> 8158286 | D19: =SUM(D8:D18)-10 -> -16483343 | E19: =SUM(E8:E18)-10 -> -64839305 | F19: =ROUND(SUM(F8:F18),0) -> -56195981 | I19: -56193407 | K19: =F19-I19 -> -2574 | O19: =BS!F11-BS!F45-BS!F39 -> -31813 | P19: Lease
K20: =F20-I20 -> 0
A21: Adjustment for: | K21: =F21-I21 -> 0
A22: Decrease/ (Increase) in inventories | C22: =-ROUND(BS!O20,0)-10 -> 28060941 | D22: =ROUND(BS!F20-BS!E20,0) -> 15398308 | E22: =ROUND(BS!G20-BS!F20,0) -> -1787250 | F22: =ROUND(BS!H20-BS!G20,0) -> -9464097 | H22: -1787250 | I22: -9464097 | K22: =F22-I22 -> 0
A23: Decrease/ (Increase) in trade receivable | C23: =-ROUND(BS!O22,0)-4 -> 2646053 | D23: =ROUND(BS!F22-BS!E22,0) -> -409857 | E23: =ROUND(BS!G22-BS!F22,0) -> 2044649 | F23: =ROUND(BS!H22-BS!G22,0) -> 254410 | H23: 1998204 | I23: 254410 | K23: =F23-I23 -> 0
A24: Decrease/ (Increase) in long term loans and advances and other receivables | C24: =ROUND(BS!O17,0) -> 537839 | D24: =ROUND(BS!F17-BS!E17+BS!F16-BS!E16+BS!F15-BS!E15,0) -> 282487 | E24: =ROUND(BS!G17-BS!F17+BS!G16-BS!F16+BS!G15-BS!F15,0) -> -246155 | F24: =ROUND(BS!H17-BS!G17+BS!H16-BS!G16+BS!H15-BS!G15,0) -> 65803 | H24: -213062 | I24: 70127 | K24: =F24-I24 -> -4324
A25: Decrease/ (Increase) in other assets and receivables | C25: =-ROUND(BS!O26,0) -> 5853074 | D25: =ROUND(+BS!F25-BS!E25+BS!F24-BS!E24+BS!F11-BS!E11-Notes!D482,0) -> 2551956 | E25: =ROUND(+BS!G25-BS!F25+BS!G24-BS!F24+BS!G11-BS!F11-Notes!E482,0)-8 -> -6195166 | F25: =ROUND(+BS!H25-BS!G25+BS!H24-BS!G24+BS!H11-BS!G11-Notes!F482,0) -> -10652037 | H25: -6228258 | I25: -10656361 | K25: =F25-I25 -> 4324
A26: (Decrease)/Increase in trade and other payables | C26: =BS!O52-C18-C12 -> -32292374 | D26: =(ROUND(BS!E41-BS!F41+BS!E48+BS!E49-BS!F48-BS!F49+BS!E47-BS!F47+BS!E50-BS!F50+BS!E51-BS!F51+BS!E45-BS!F45+BS!E39-BS!F39-D12-'Cash flow'!D13-'Cash flow'!D14-D18+PL!E31,0))+PL!E31*0 -> -12043832 | E26: =(ROUND(BS!F41-BS!G41+BS!F48+BS!F49-BS!G48-BS!G49+BS!F47-BS!G47+BS!F50-BS!G50+BS!F51-BS!G51+BS!F45-BS!G45+BS!F39-BS!G39-E12-'Cash flow'!E13-'Cash flow'!E14-E18+PL!F31,0))+PL!F31*0 -> 13565588 | F26: =ROUND(BS!G41-BS!H41+BS!G48+BS!G49-BS!H48-BS!H49+BS!G47-BS!H47+BS!G50-BS!H50+BS!G51-BS!H51+BS!G45-BS!H45+BS!G39-BS!H39-F12-'Cash flow'!F13-'Cash flow'!F14-F18+PL!G31,0)-30 -> 18842736 | H26: 13998740 | I26: 18842641 | K26: =F26-I26 -> 95
A27: Cash generated from operations | C27: =SUM(C19:C26) -> 12963819 | D27: =SUM(D19:D26) -> -10704281 | E27: =SUM(E19:E26)-10 -> -57457649 | F27: =SUM(F19:F26) -> -57149166 | I27: -57146687 | K27: =F27-I27 -> -2479
A28: Income tax refund/(paid) | C28: 0 | D28: 0 | E28: 0 | F28: 0 | I28: 0 | K28: =F28-I28 -> 0
A29: Net cash (used in)/ generated from operating activities | C29: =SUM(C27:C28) -> 12963819 | D29: =SUM(D27:D28) -> -10704281 | E29: =SUM(E27:E28) -> -57457649 | F29: =ROUND(SUM(F27:F28),0) -> -57149166 | I29: -57146687 | K29: =F29-I29 -> -2479
A30: B. Cash flow from investing activities | K30: =F30-I30 -> 0
A31: Acquisition of fixed assets and capital work in progress | C31: 0 | D31: =ROUND(-'FA prev year'!C58-'FA prev year'!C23,0) -> 0 | E31: =ROUND(-'FA prev year'!D58-'FA prev year'!D23,0) -> -1093843 | F31: =ROUND(-'FA prev year'!D42-'FA prev year'!D69,0) -> -13151127 | I31: -13151127 | K31: =F31-I31 -> 0
A32: Purchase/(Sale) of investments | C32: =D32 -> 40000 | D32: =-E32 -> 40000 | E32: =-BS!G14-BS!F14 -> -40000 | F32: 0
A33: Proceeds from sale of PPE | C33: ='FA sch'!F23-'FA sch'!K23+Notes!C433-Notes!C504 -> 225517.95 | D33: ='FA sep'!F23-'FA sep'!K23-Notes!D504+23 -> 133144 | E33: =ROUND('FA prev year'!F23-'FA prev year'!K23-E17,0) -> 42768 | F33: ='FA prev year'!F42+'FA prev year'!F74-'FA prev year'!K42-'FA prev year'!K74-F17 -> 5000 | I33: 2565 | K33: =F33-I33 -> 2435
A34: Interest income on fixed deposits and other advances | C34: =ROUND(-C11,0) -> 11035 | D34: =ROUND(-D11,0) -> 0 | E34: =ROUND(-E11,0) -> 21217 | F34: =ROUND(-F11,0) -> 37675 | I34: 37675 | K34: =F34-I34 -> 0
A35: Net cash (used in)/ generated from investing activities | C35: =SUM(C31:C34)+5 -> 276557.95 | D35: =SUM(D31:D34) -> 173144 | E35: =SUM(E31:E34)+4 -> -1069854 | F35: =ROUND(SUM(F31:F34),0) -> -13108452 | I35: -13110887 | K35: =F35-I35 -> 2435
A36: C. Cash flow from financing activities | K36: =F36-I36 -> 0
A37: Proceeds from issuance of Debentures | C37: =ROUND(BS!C40-BS!E40,0)*0 -> 0 | D37: =ROUND(BS!E40-BS!F40,0)*0 -> 0 | E37: =ROUND(BS!F40-BS!G40,0)*0 -> 0 | F37: 0 | I37: 0 | K37: =F37-I37 -> 0
A38: Proceeds from issuance of Inter corporate deposits | C38: =BS!D40 -> 0 | D38: =BS!E40 -> 25500000 | E38: 0 | F38: 2678186 | I38: 2678186 | K38: =F38-I38 -> 0
A39: Proceeds from issuance of Equity shares | C39: =D39 -> 2499937 | D39: =SOCE!E11+SOCE!E35 -> 2499937 | E39: =ROUND(SOCE!G11+SOCE!G10+SOCE!E48,0) -> 4999975 | F39: 131422306 | I39: 131422306 | K39: =F39-I39 -> 0
A40: Proceeds from Short term borrowings | C40: =ROUND(BS!D46-BS!F46,0) -> -15311609 | D40: =ROUND(BS!E46-BS!F46,0) -> -14718745 | E40: =ROUND(BS!F46-BS!G46,0) -> 12468603 | F40: =ROUND(BS!G46-BS!H46,0) -> -22953413 | I40: -22953413 | K40: =F40-I40 -> 0
A41: Net cash (used in)/ generated from financing activities | C41: =SUM(C37:C40) -> -12811672 | D41: =SUM(D37:D40) -> 13281192 | E41: =SUM(E37:E40) -> 17468578 | F41: =SUM(F37:F40)+6 -> 111147085 | I41: 111147079 | K41: =F41-I41 -> 6
...

Sheet SOCE
A1: =BS!A1 -> 1908 E-Ventures Private Limited
A2: Statement of Changes in Equity
A3: =PL!A3 -> For the year ended 31st March, 2024
A4: =BS!A3 -> [Currency: Indian Rupees(Rs.'000)]
A6: A. Equity share capital
A7: Particulars | D7: 2023-24 | F7: 2022-23 | H7: 2021-22
D8: Number of Shares | E8: Amount in Rupees | F8: Number of Shares | G8: Amount in Rupees | H8: Number of Shares | I8: Amount in Rupees
A9: Opening Balance | D9: =+F14 -> 5994514 | E9: =D9*10 -> 59945140 | F9: =+H14 -> 5944263 | G9: =F9*10 -> 59442630 | H9: 3199329 | I9: 31993290
A10: Add: Shares issued on exercise of employee stock options during the year | E10: =+D10*10 -> 0 | G10: =+F10*10 -> 0 | H10: 37000 | I10: 370000
A11: Add: Shares issued on private placement | D11: 25125 | E11: =+D11*10 -> 251250 | F11: 50251 | G11: =+F11*10 -> 502510 | H11: 1894732 | I11: 18947320
A12: Add: Shares issued on conversion of Convertible debenture during the year | E12: =+D12*10 -> 0 | G12: =+F12*10 -> 0 | H12: 457142 | I12: 4571420
A13: Add: Shares issued on conversion of ICD/Loan during the year | E13: =+D13*10 -> 0 | G13: =+F13*10 -> 0 | H13: 356060 | I13: 3560600 | L13: =194529139-118487682 -> 76041457
A14: Balance as at the end of the year | D14: =SUM(D9:D13) -> 6019639 | E14: =SUM(E9:E13) -> 60196390 | F14: =SUM(F9:F13) -> 5994514 | G14: =SUM(G9:G13) -> 59945140 | H14: =SUM(H9:H13) -> 5944263 | I14: =SUM(I9:I13) -> 59442630 | L14: =+G54+G14 -> 10926966
A17: B. Other equity
A18: Particulars | D18: Reserves and surplus | G18: Total equity | L18: =#REF!-#REF! -> #REF! | M18: 149599 | N18: b
D19: Retained earnings | E19: Securities premium | F19: Employee share options (net) | M19: 335985 | N19: d4
D20: Rs. | E20: Rs. | F20: Rs. | G20: Rs. | M20: =SUM(M18:M19) -> 485584
A21: Balance as at 1 April 2023 | D21: =D54 -> -226210233 | E21: =E54 -> 177192059 | F21: =F54 -> 0 | G21: =SUM(D21:F21) -> -49018174 | K21: ='BS Grouping'!AC1+'BS Grouping'!#REF!-'BS Grouping'!#REF! -> #REF! | M21: =+L18+M20 -> #REF!
A22: Profit for the year | D22: =PL!D27 -> 11743076 | E22: 0 | F22: 0 | G22: =SUM(D22:F22) -> 11743076 | K22: =G21-K21 -> #REF!
A23: Issue of equity shares | D23: 0 | E23: =2248680 -> 2248680 | F23: 0 | G23: =SUM(D23:F23) -> 2248680
A24: Transfer from/to general reserve/retained earnings during the year | D24: 0 | E24: 0 | F24: 0 | G24: =SUM(D24:F24) -> 0 | K24: 202676507
A25: Employee stock options (net) | D25: 0 | E25: 0 | F25: 0 | G25: =SUM(D25:F25) -> 0 | K25: =42152481-4500393 -> 37652088
A26: Other comprehensive income | D26: 0 | E26: 0 | F26: 0 | G26: =SUM(D26:F26) -> 0 | K26: =('BS Grouping'!W3+'BS Grouping'!Y3+'BS Grouping'!AA3)*-1 -> -3.34
K27: =SUM(K24:K26) -> 2.4032859e+08
A28: Total comprehensive income for the year | D28: =SUM(D22:D26) -> 11743076 | E28: =SUM(E22:E26) -> 2248680 | F28: =SUM(F22:F26) -> 0 | G28: =SUM(G22:G26) -> 13991756 | K28: =D29 -> -214467147
A29: Balance as at 31st March 2024 | D29: =D28+D21+10 -> -214467147 | E29: =E28+E21 -> 179440739 | F29: =F28+F21 -> 0 | G29: =G28+G21+10 -> -35026408 | K29: =SUM(K27:K28) -> 25861445 | L29: =G29+#REF! -> #REF!
A30: Particulars | D30: Reserves and surplus | G30: Total equity | L30: =L1-L2 -> 0 | M30: 149599 | N30: b
D31: Retained earnings | E31: Securities premium | F31: Employee share options (net) | M31: 335985 | N31: d4
D32: Rs. | E32: Rs. | F32: Rs. | G32: Rs. | M32: =SUM(M30:M31) -> 485584
A33: Balance as at 1 April 2023 | D33: =D54 -> -226210233 | E33: =E54 -> 177192059 | F33: =F54 -> 0 | G33: =SUM(D33:F33) -> -49018174 | K33: ='BS Grouping'!AC13+'BS Grouping'!AC11-'BS Grouping'!AC7 -> -46195330 | M33: =+L30+M32 -> 485584
A34: Profit for the year | D34: =PL!E27 -> -16923010 | E34: 0 | F34: 0 | G34: =SUM(D34:F34) -> -16923010 | K34: =G33-K33 -> -2822844
A35: Issue of equity shares | D35: 0 | E35: 2248687 | F35: 0 | G35: =SUM(D35:F35) -> 2248687
A36: Transfer from/to general reserve/retained earnings during the year | D36: 0 | E36: 0 | F36: 0 | G36: =SUM(D36:F36) -> 0 | K36: 202676507
A37: Employee stock options (net) | D37: 0 | E37: 0 | F37: 0 | G37: =SUM(D37:F37) -> 0 | K37: =42152481-4500393 -> 37652088
A38: Other comprehensive income | D38: 0 | E38: 0 | F38: 0 | G38: =SUM(D38:F38) -> 0 | K38: =('BS Grouping'!W15+'BS Grouping'!Y15+'BS Grouping'!AA15)*-1 -> 1171978.7
K39: =SUM(K36:K38) -> 2.4150057e+08
A40: Total comprehensive income for the year | D40: =SUM(D34:D38) -> -16923010 | E40: =SUM(E34:E38) -> 2248687 | F40: =SUM(F34:F38) -> 0 | G40: =SUM(G34:G38) -> -14674324 | K40: =D41 -> -2.4313324e+08
A41: Balance as at 30 Sep 2023 | D41: =D40+D33 -> -2.4313324e+08 | E41: =E40+E33 -> 179440746 | F41: =F40+F33 -> 0 | G41: =G40+G33 -> -63692498 | K41: =SUM(K39:K40) -> -1632669.8 | L41: =G41+E2 -> -63692498
A43: Particulars | D43: Reserves and surplus | G43: Total equity | L43: =L13-L14 -> 65114491 | M43: 149599 | N43: b
D44: Retained earnings | E44: Securities premium | F44: Employee share options (net) | K44: ='BS Grouping'!U3 -> -280479.28 | M44: 335985 | N44: d4
...

Sheet Accounting Policies
A1: ='Cash flow'!A1 -> 1908 E-Ventures Private Limited
A2: Significant accounting policies and other explanatory information for the year ended 31st March, 2024
A3: Notes to the financial statements
A5: 1 | B5: Company information
B6: (a) | C6: 1908 E-Ventures Pvt. Ltd. is a private limited company incorporated under the provision of the Companies Act, 2013. The Company was promoted & incorporated by M/s. J.B. Advani & Company Pvt. Ltd. and M/s. Ador Multiproducts Ltd. on 18th August 2015 to carry on the business to create an e-commerce platform - both website based & mobile application based that will showcase, display and sell multiple brands and provide all e - commerce based trading of consumer goods. 1908 E-Ventures Pvt. Ltd. (‘the Company’) is a private limited company and was incorporated in 2015. The registered and corporate office of the company is situated at 5th floor, Ador House, 6K Dubash Marg, Fort, 6, K Dubash Marg, Kala Ghoda, Fort, Mumbai, Maharashtra 400001.
A8: 2.1 | B8: BASIS OF PREPARATION OF FINANCIAL STATEMENTS
B9: (a) | C9: Basis of preparation and compliance with Ind AS
B10: (i) | C10: The financial statements have been prepared in accordance with the Indian Accounting Standards (referred to as “Ind AS”) prescribed under section 133 of the Companies Act, 2013 read with Companies (Indian Accounting Standards) Rules 2015, as amended and other relevant provisions of the Act.
B11: (ii) | C11: The financial statements have been prepared on a historical cost convention and accrual basis, except for the certain financial assets and liabilities that are measured at fair value and defined benefit plan assets measured at fair values by Ind AS.
B12: (iii) | C12: Fair value is the price that would be received on sale of asset or paid on transfer of liability in an orderly transaction between market participants at the measurement date, regardless of whether that price is directly observable or estimated using another valuation technique. In estimating the fair value of an asset or a liability, the Company takes into account the characteristics of the asset or liability if market participants would take those characteristics into account when pricing the asset or liability at the measurement date.
B13: (iv) | C13: All assets and liabilities have been classified as current or non-current based on the Company’s normal operating cycle for each of its businesses, as per the criteria set out in the Schedule III to the Act.
B14: (v) | C14: The comparative figures included in the standalone financial statements are restated as and when Company absorb or amalgamate the Company by way of merger as per respective NCLT orders.
B15: (v) | C15: These financial statements were authorised and approved for issue by the Board of Directors on 8 May 2024.
B17: (b) | C17: Critical estimates and judgements
B18: (i) | C18: For all periods upto and including the year ended 31 March 2017, the Company prepared its financial statements in accordance with Generally Accepted Accounting Principles in India (IGAAP) and complied with the accounting standards (Previous GAAP) as notified under Section 133 of the Companies Act, 2013 read together with Rule 7 of the Companies (Accounts) Rules, 2014, (as amended), to the extent applicable and the presentation requirements of the Companies Act, 2013.
B19: (ii) | C19: In accordance with the notification issued by the Ministry of Corporate Affairs, the Company has adopted Indian Accounting Standards (Ind AS) notified under Section 133 (as amended) of the Act (collectively, “Ind AS”) with effect from 1 April, 2017.
B20: (b) | C20: Critical estimates and judgements
C21: The preparation of Financial Statements in conformity with Ind AS which requires management to make estimates, assumptions and exercise judgement in applying the accounting policies that affect the reported amount of assets, liabilities and disclosure of contingent liabilities at the date of financial statements and the reported amounts of income and expenses during the year.
C22: The Management believes that these estimates are prudent and reasonable and are based upon the management’s best knowledge of current events and actions. Actual results could differ from these estimates and differences between actual results and estimates are recognised in the periods in which the results are known or materialised.
C23: This note provides an overview of the areas that involved a higher degree of judgement or complexity, and of items which are more likely to be materially adjusted due to estimates and assumptions turning out to be different than those originally assessed.
C24: Useful lives of property, plant and equipment
C25: Property, Plant and Equipment represent a significant proportion of the asset base of the Company . The charge in respect of periodic depreciation is derived after determining an estimate of an asset’s expected useful life and the expected residual value at the end of its life. The useful lives and residual values of Company’s assets are determined by the management at the time the asset is acquired and reviewed periodically, including at each financial year end.
C27: Valuation of deferred tax assets
C28: The Company reviews the carrying amount of deferred tax assets at the end of each reporting period. Significant judgement is involved in arriving at the deferred tax assets and liabilities, which is based on the Company’s current operations and projections for the future.
C30: Defined benefit obligation
C31: The cost of post-employment benefits is determined using actuarial valuations. The actuarial valuation involves making assumptions about discount rates, expected rate of return on assets, future salary increases and mortality rates. Due to the long term nature of these plans such estimates are subject to significant uncertainty. The assumptions used as disclosed in Note 36. | J31: ='Employee benefits Note 36'!A5 -> 36
B32: (c) | C32: Basis of measurement
C33: The Ind AS financial statements have been prepared on a going concern basis using historical cost convention and on an accrual method of accounting, except for certain financial assets and liabilities which have been measured at fair value as described below and defined benefit plans which have been measured at actuarial valuation as required by relevant Ind AS.
C34: Fair value measurement
C35: The Company measures certain financial assets and liabilities at fair value at each balance sheet date. Fair value is the price that would be received to sell an asset or paid to transfer a liability in an orderly transaction between market participants at the measurement date. The fair value measurement is based on the presumption that the transaction to sell the asset or transfer the liability takes place either:
C36: - In the principal market for the asset or liability, or
C37: - In the absence of a principal market, in the most advantageous market for the asset or liability
C38: The principal or the most advantageous market must be accessible by the Company .
C39: The fair value of an asset or a liability is measured using the assumptions that market participants would use when pricing the asset or liability, assuming that market participants act in their economic best interest.
C40: A fair value measurement of a non-financial asset takes into account a market participant’s ability to generate economic benefits by using the asset in its highest and best use or by selling it to another market participant that would use the asset in its highest and best use.
C41: Fair value for measurement and /or disclosure purpose in these financial statements is determined on such a basis, except for leasing transactions that are within the scope of Ind AS 17, and measurements that have some similarities to fair value, such as net realisable value in Ind AS 2 or value in use in Ind AS 36.
C42: The Company uses valuation techniques that are appropriate in the circumstances and for which sufficient data are available to measure fair value, maximising the use of relevant observable inputs and minimising the use of unobservable inputs.
C43: All assets and liabilities for which fair value is measured or disclosed in the financial statements are categorised within the fair value hierarchy, described as follows, based on the lowest level input that is significant to the fair value measurement as a whole:
C44: Level 1 — Quoted (unadjusted) market prices in active markets for identical assets or liabilities
... C47: For the purpose of fair value disclosures, the Company has determined classes of assets and liabilities on the basis of the nature, characteristics and risks of the asset or liability and the level of the fair value hierarchy as explained above.
...

Sheet Profit reco
C2: As per Grouping | E2: Tally | G2: Difference
B3: Mumbai | C3: ='PL Grouping'!C385+'PL Grouping'!D385+PL!D26 -> 12290779 | E3: 12277474 | G3: =C3-E3 -> 13305.475 | H3: ='PL Grouping'!D384 -> -809011.52 | I3: =G3-H3 -> 822317
B4: Bangalore | C4: ='PL Grouping'!E385 -> -292871 | E4: -292871 | G4: =C4-E4 -> 0
B5: Delhi | C5: ='PL Grouping'!G385+'PL Grouping'!H384 -> -58930 | E5: -58930 | G5: =C5-E5 -> 0
B6: Haryana | C6: ='PL Grouping'!I385+'PL Grouping'!J384 -> -335957.36 | E6: -335957 | G6: =C6-E6 -> -0.36
B7: Total | C7: =SUM(C3:C6) -> 11603021 | E7: =SUM(E3:E6) -> 11589716 | G7: =C7-E7 -> 13305.115
G8: =C8-E8 -> 0
B9: As pe PL | C9: =PL!D36 -> 11743076 | E9: =PL!D36 -> 11743076 | G9: =C9-E9 -> 0
B10: Difference | C10: =C7-C9 -> -140054.88 | E10: =E7-E9 -> -153360 | G10: =C10-E10 -> 13305.115
B11: Opening reserves diff | C11: 139719 | E11: =C11 -> 139719 | G11: =C11-E11 -> 0
B12: Rounding off | C12: 337 | E12: 337 | G12: =C12-E12 -> 0
G13: =C13-E13 -> 0
B14: Difference | C14: =C11+C10+C12+C13 -> 1.1154098 | E14: =E11+E10+E12+E13 -> -13304 | G14: =C14-E14 -> 13305.115
G15: =C15-D15 -> 0
A21: Details to discuss
A22: 1 | B22: Exceptional item | G22: Done
A23: 2 | B23: SOCE difference in op balance | G23: Done
A24: 3 | B24: Accounting policy to check in line with JBA
A25: 4 | B25: Check note referencing in accounting policies
A26: 5 | B26: Related Party file Prev year figures | G26: Done
A27: 6 | B27: Ask about directors date
A28: 7

Sheet FA sch
A1: =+[73]BS!A1 -> 1908 E-Ventures Private Limited
A2: Notes forming part of the financial statements
A3: =[73]BS!A3 -> [Currency: Indian Rupees(Rs.'000)]
A5: 3. Property Plant & Equipment
B7: Gross block - at cost | H7: Depreciation/ Amortisation | M7: Net block | N7: Net block
B8: As at | C8: GAAP | G8: As at | H8: As at | I8: For the | L8: As at | M8: As at | N8: As at
A9: Particulars | B9: 1 April 2023 | C9: Adjustments | D9: Additions | E9: Adjustments | F9: Deductions | G9: 31 March 2024 | H9: 1 April 2023 | I9: Period | J9: Adjustments | K9: Deductions | L9: 31 March 2024 | M9: 31 March 2024 | N9: 31 March 2023
A11: Tangible assets
A13: Computers | B13: 1890584 | D13: 0 | E13: 0 | F13: 1221096.4 | G13: =B13+D13-F13+E13 -> 669487.65 | H13: 1259398 | I13: 285200 | J13: 0 | K13: 999368 | L13: =H13+I13+J13-K13 -> 545230 | M13: =G13-L13 -> 124257.65 | N13: =B13-H13 -> 631186
A15: Furniture and fixtures | B15: 1176372 | D15: 0 | E15: 0 | F15: 1176372 | G15: =B15+D15-F15+E15 -> 0 | H15: 1023543 | I15: 13981 | J15: 0 | K15: 1037524 | L15: =H15+I15+J15-K15 -> 0 | M15: =G15-L15 -> 0 | N15: =B15-H15 -> 152829
A17: Electrical installations | B17: 187694 | D17: 0 | E17: 0 | F17: 187694 | G17: =B17+D17-F17+E17 -> 0 | H17: 165213 | I17: 4401 | J17: 0 | K17: 169614 | L17: =H17+I17+J17-K17 -> 0 | M17: =G17-L17 -> 0 | N17: =B17-H17 -> 22481
O18: =K19-N19 -> 338401
A19: Office equipments | B19: 889490 | D19: 0 | E19: 0 | F19: 591089.6 | G19: =B19+D19-F19+E19 -> 298400.4 | H19: 706718 | I19: 57423 | J19: 0 | K19: 521173 | L19: =H19+I19+J19-K19 -> 242968 | M19: =G19-L19 -> 55432.4 | N19: =B19-H19 -> 182772 | O19: 15906 | P19: Extra Entry
O21: 28000 | P21: Extra Entry
A23: Total | B23: =SUM(B13:B20)-10 -> 4144130 | C23: =SUM(C13:C20) -> 0 | D23: =SUM(D13:D20) -> 0 | E23: =SUM(E13:E20) -> 0 | F23: =SUM(F13:F20) -> 3176252 | G23: =SUM(G13:G20) -> 967888.05 | H23: =SUM(H13:H20) -> 3154872 | I23: =SUM(I13:I20)-10 -> 360995 | J23: =SUM(J13:J20) -> 0 | K23: =SUM(K13:K20)-10 -> 2727669 | L23: =SUM(L13:L20) -> 788198 | M23: =SUM(M13:M20) -> 179690.05 | N23: =SUM(N13:N20) -> 989268 | O23: 15467932
N25: =F23-F25 -> 3176252 | O25: =N23-O23 -> -14478664
B26: Gross block - at cost | H26: Depreciation/ Amortisation | M26: Net block
B27: As at | C27: GAAP | G27: As at | H27: As at | I27: For the | L27: As at | M27: As at
A28: Particulars | B28: 1 April 2022 | C28: Adjustments | D28: Additions | E28: Adjustments | F28: Deductions | G28: 31 March 2023 | H28: 1 April 2022 | I28: Period | J28: Adjustments | K28: Deductions | L28: 31 March 2023 | M28: 31 March 2023
A30: Tangible assets
A32: Computers | B32: 1354117 | D32: 705874 | E32: 0 | F32: 169407 | G32: 1890584 | H32: 781244 | I32: 604793 | J32: 0 | K32: 126639 | L32: 1259398 | M32: 631186
A34: Furniture and fixtures | B34: 1065072 | D34: 111300 | E34: 0 | F34: 0 | G34: 1176372 | H34: 888571 | I34: 134972 | J34: 0 | K34: 0 | L34: 1023543 | M34: 152829
A36: Electrical installations | B36: 187694 | D36: 0 | E36: 0 | F36: 0 | G36: 187694 | H36: 157361 | I36: 7852 | J36: 0 | K36: 0 | L36: 165213 | M36: 22481
A38: Office equipments | B38: 749321 | D38: 140169 | E38: 0 | F38: 0 | G38: 889490 | H38: 567317 | I38: 139401 | J38: 0 | K38: 0 | L38: 706718 | M38: 182772 | O38: 15906 | P38: Extra Entry
A42: Total | B42: =SUM(B32:B39) -> 3356204 | C42: =SUM(C32:C39) -> 0 | D42: =SUM(D32:D39) -> 957343 | E42: =SUM(E32:E39) -> 0 | F42: =SUM(F32:F39) -> 169407 | G42: =SUM(G32:G39) -> 4144140 | H42: =SUM(H32:H39) -> 2394493 | I42: =SUM(I32:I39) -> 887018 | ... M42: =SUM(M32:M39) -> 989268
B44: Gross block - at cost | H44: Depreciation/ Amortisation | M44: Net block | N44: Net block
B45: As at | C45: GAAP | G45: As at | H45: As at | I45: For the | L45: As at | M45: As at | N45: =N8 -> As at
A46: Particulars | B46: =+B9 -> 1 April 2023 | C46: Adjustments | D46: Additions | E46: Adjustments | F46: Deductions | G46: =+G9 -> 31 March 2024 | H46: =+H9 -> 1 April 2023 | I46: year | J46: Adjustments | K46: Deductions | L46: =+L9 -> 31 March 2024 | M46: =+M9 -> 31 March 2024 | N46: =N9 -> 31 March 2023
A49: Intangible assets
A51: Computer software | B51: 420938 | C51: - | D51: 0 | E51: 0 | F51: 0 | G51: =B51+D51+E51-F51 -> 420938 | H51: 298043 | I51: 20520 | J51: 0 | K51: 0 | L51: =H51+I51+J51-K51 -> 318563 | M51: =G51-L51 -> 102375 | N51: =B51-H51 -> 122895
A53: Brand acquisition | B53: 18525600 | D53: 0 | E53: 0 | F53: 0 | G53: =B53+D53+E53-F53 -> 18525600 | H53: 4003208 | I53: 1989019 | J53: 0 | K53: 0 | L53: =H53+I53+J53-K53 -> 5992227 | M53: =G53-L53 -> 12533373 | N53: =B53-H53 -> 14522392
A55: Website Development | B55: 927056 | C55: - | D55: 0 | E55: 0 | F55: 0 | G55: =B55+D55+E55-F55 -> 927056 | H55: 927056 | I55: 0 | J55: 0 | K55: 0 | L55: =H55+I55+J55-K55 -> 927056 | M55: =G55-L55 -> 0 | N55: =B55-H55 -> 0
A58: Total | B58: =SUM(B51:B55)+10 -> 19873604 | C58: =SUM(C51:C55) -> 0 | D58: =SUM(D51:D55) -> 0 | E58: =SUM(E51:E55) -> 0 | F58: =SUM(F51:F55) -> 0 | G58: =SUM(G51:G55)+10 -> 19873604 | H58: =SUM(H51:H55) -> 5228307 | I58: =SUM(I51:I55) -> 2009539 | J58: =SUM(J51:J55) -> 0 | K58: =SUM(K51:K55) -> 0 | L58: =SUM(L51:L55) -> 7237846 | M58: =SUM(M51:M55) -> 12635748 | N58: =SUM(N51:N55) -> 14645287
B62: Gross block - at cost | H62: Depreciation/Amortisation | M62: Net block
B63: As at | C63: GAAP | G63: As at | H63: As at | I63: For the | L63: As at | M63: As at
A64: Particulars | B64: =+B28 -> 1 April 2022 | C64: Adjustments | D64: Additions | E64: Adjustments | F64: Deductions | G64: =+G28 -> 31 March 2023 | H64: =+H28 -> 1 April 2022 | I64: year | J64: Adjustments | K64: Deductions | L64: =+L28 -> 31 March 2023 | M64: =+M28 -> 31 March 2023
A67: Intangible assets
A69: Computer software | B69: 284438 | C69: - | D69: 136500 | E69: 0 | F69: 0 | G69: 420938 | H69: 278349 | I69: 19694 | J69: 0 | K69: 0 | L69: 298043 | M69: 122895
A71: Brand acquisition | B71: 18525600 | D71: 0 | E71: 0 | F71: 0 | G71: 18525600 | H71: 1358428 | I71: 2644780 | J71: 0 | K71: 0 | L71: 4003208 | M71: 14522392
A73: Website Development | B73: 927056 | C73: - | D73: 0 | E73: 0 | F73: 0 | G73: 927056 | H73: 927056 | I73: 0 | J73: 0 | K73: 0 | L73: 927056 | M73: 0
...

Sheet FA prev year
A1: =+BS!A1 -> 1908 E-Ventures Private Limited
A2: Notes forming part of the financial statements
A3: =BS!A3 -> [Currency: Indian Rupees(Rs.'000)]
A5: 3. Property Plant & Equipment
B7: Gross block - at cost | H7: Depreciation/ Amortisation | M7: Net block
B8: As at | C8: GAAP | G8: As at | H8: As at | I8: For the | L8: As at | M8: As at
A9: Particulars | B9: 1 April 2022 | C9: Adjustments | D9: Additions | E9: Adjustments | F9: Deductions | G9: 31 March 2023 | H9: 1 April 2022 | I9: year | J9: Adjustments | K9: Deductions | L9: 31 March 2023 | M9: 31 March 2023
A11: Tangible assets
A13: Computers | B13: 1354117 | D13: 705874 | E13: 0 | F13: 169407 | G13: =ROUND(B13+D13+E13-F13-C13,0) -> 1890584 | H13: 781244 | I13: =598163+6630 -> 604793 | J13: =6630*0 -> 0 | K13: 126639 | L13: =ROUND(H13+I13+J13-K13,0) -> 1259398 | M13: =G13-L13 -> 631186
A15: Furniture and fixtures | B15: 1065072 | D15: 111300 | E15: 0 | F15: 0 | G15: =ROUND(B15+D15+E15-F15-C15,0) -> 1176372 | H15: 888571 | I15: 134972 | J15: =55507*0 -> 0 | K15: 0 | L15: =ROUND(H15+I15+J15-K15,0) -> 1023543 | M15: =G15-L15 -> 152829
A17: Electrical installations | B17: 187694 | D17: 0 | E17: 0 | F17: 0 | G17: =ROUND(B17+D17+E17-F17-C17,0) -> 187694 | H17: 157361 | I17: 7852 | J17: 0 | K17: 0 | L17: =ROUND(H17+I17+J17-K17,0) -> 165213 | M17: =G17-L17 -> 22481
A19: Office equipments | B19: 749321 | D19: 140169 | E19: 0 | F19: 0 | G19: =ROUND(B19+D19+E19-F19-C19,0) -> 889490 | H19: 567317 | I19: =128288+11113 -> 139401 | J19: =11113*0 -> 0 | K19: 0 | L19: =ROUND(H19+I19+J19-K19,0) -> 706718 | M19: =G19-L19 -> 182772 | O19: 15906 | P19: Extra Entry
O21: 28000 | P21: Extra Entry
A23: Total | B23: =SUM(B13:B20) -> 3356204 | C23: =SUM(C13:C20) -> 0 | D23: =SUM(D13:D20) -> 957343 | E23: =SUM(E13:E20) -> 0 | F23: =SUM(F13:F20) -> 169407 | G23: =SUM(G13:G20) -> 4144140 | H23: =SUM(H13:H20) -> 2394493 | I23: =SUM(I13:I20) -> 887018 | ... M23: =SUM(M13:M20) -> 989268 | O23: =+M23+M58 -> 15634555
B26: Gross block - at cost | H26: Depreciation/ Amortisation | M26: Net block
B27: As at | C27: GAAP | G27: As at | H27: As at | I27: For the | L27: As at | M27: As at
A28: Particulars | B28: 1 April 2021 | C28: Adjustments | D28: Additions | E28: Adjustments | F28: Deductions | G28: 31 March 2022 | H28: 1 April 2021 | I28: year | J28: Adjustments | K28: Deductions | L28: 31 March 2022 | M28: 31 March 2022
A30: Tangible assets
A32: Computers | B32: 803315 | D32: 506281 | E32: 44521 | F32: 0 | G32: =ROUND(B32+D32+E32-F32-C32,0) -> 1354117 | H32: 506141 | I32: 230582 | J32: 44521 | K32: 0 | L32: =ROUND(H32+I32+J32-K32,0) -> 781244 | M32: =G32-L32 -> 572873
A34: Furniture and fixtures | B34: 993947 | D34: 0 | E34: 71125 | F34: 0 | G34: =ROUND(B34+D34+E34-F34-C34,0) -> 1065072 | H34: 708852 | I34: 108594 | J34: 71125 | K34: 0 | L34: =ROUND(H34+I34+J34-K34,0) -> 888571 | M34: =G34-L34 -> 176501
A36: Electrical installations | B36: 168499 | D36: 0 | E36: 19195 | F36: 0 | G36: =ROUND(B36+D36+E36-F36-C36,0) -> 187694 | H36: 127571 | I36: 10595 | J36: 19195 | K36: 0 | L36: =ROUND(H36+I36+J36-K36,0) -> 157361 | M36: =G36-L36 -> 30333
A38: Office equipments | B38: 634116 | D38: 119246 | E38: 28259 | F38: 32300 | G38: =ROUND(B38+D38+E38-F38-C38,0) -> 749321 | H38: 519061 | I38: 49732 | J38: 28259 | K38: 29735 | L38: =ROUND(H38+I38+J38-K38,0) -> 567317 | M38: =G38-L38 -> 182004 | O38: 15906 | P38: Extra Entry
A42: Total | B42: =SUM(B32:B39) -> 2599877 | C42: =SUM(C32:C39) -> 0 | D42: =SUM(D32:D39) -> 625527 | E42: =SUM(E32:E39) -> 163100 | F42: =SUM(F32:F39) -> 32300 | G42: =SUM(G32:G39) -> 3356204 | H42: =SUM(H32:H39) -> 1861625 | I42: =SUM(I32:I39) -> 399503 | ... M42: =SUM(M32:M39) -> 961711
B44: Gross block - at cost | H44: Depreciation/ Amortisation | M44: Net block
B45: As at | C45: GAAP | G45: As at | H45: As at | I45: For the | L45: As at | M45: As at
A46: Particulars | B46: =+B9 -> 1 April 2022 | C46: Adjustments | D46: Additions | E46: Adjustments | F46: Deductions | G46: =+G9 -> 31 March 2023 | H46: =+H9 -> 1 April 2022 | I46: year | J46: Adjustments | K46: Deductions | L46: =+L9 -> 31 March 2023 | M46: =+M9 -> 31 March 2023
A49: Intangible assets
A51: Computer software | B51: 284438 | C51: - | D51: 136500 | E51: 0 | F51: 0 | G51: =B51+D51+E51-F51 -> 420938 | H51: 278349 | I51: 19694 | J51: 0 | K51: 0 | L51: =H51+I51+J51-K51 -> 298043 | M51: =G51-L51 -> 122895
A53: Brand acquisition | B53: 18525600 | D53: 0 | E53: 0 | F53: 0 | G53: =B53+D53+E53-F53 -> 18525600 | H53: 1358428 | I53: 2644780 | J53: 0 | K53: 0 | L53: =H53+I53+J53-K53 -> 4003208 | M53: =G53-L53 -> 14522392
A55: Website Development | B55: 927056 | C55: - | D55: 0 | E55: 0 | F55: 0 | G55: =B55+D55+E55-F55 -> 927056 | H55: 927056 | I55: 0 | J55: 0 | K55: 0 | L55: =H55+I55+J55-K55 -> 927056 | M55: =G55-L55 -> 0
A58: Total | B58: =SUM(B51:B55) -> 19737094 | C58: =SUM(C51:C55) -> 0 | D58: =SUM(D51:D55) -> 136500 | E58: =SUM(E51:E55) -> 0 | F58: =SUM(F51:F55) -> 0 | G58: =SUM(G51:G55) -> 19873594 | H58: =SUM(H51:H55) -> 2563833 | I58: =SUM(I51:I55) -> 2664474 | ... M58: =SUM(M51:M55) -> 14645287
B60: Gross block - at cost | H60: Depreciation/Amortisation | M60: Net block
B61: As at | C61: GAAP | G61: As at | H61: As at | I61: For the | L61: As at | M61: As at
A62: Particulars | B62: =+B28 -> 1 April 2021 | C62: Adjustments | D62: Additions | E62: Adjustments | F62: Deductions | G62: =+G28 -> 31 March 2022 | H62: =+H28 -> 1 April 2021 | I62: year | J62: Adjustments | K62: Deductions | L62: =+L28 -> 31 March 2022 | M62: =+M28 -> 31 March 2022
A65: Intangible assets
A67: Computer software | B67: 284438 | C67: 0 | D67: 0 | E67: 0 | F67: 0 | G67: =B67+D67+E67-F67 -> 284438 | H67: 222560 | I67: 55789 | J67: 0 | K67: 0 | L67: =H67+I67+J67-K67 -> 278349 | M67: =G67-L67 -> 6089
A69: Brand acquisition | B69: 6000000 | D69: 12525600 | E69: 0 | G69: =B69+D69+E69-F69 -> 18525600 | H69: 500000 | I69: 858428 | L69: =H69+I69+J69-K69 -> 1358428 | M69: =G69-L69 -> 17167172
A71: Website Development | B71: 927056 | D71: 0 | E71: 0 | F71: 0 | G71: =B71+D71+E71-F71 -> 927056 | H71: 927056 | I71: 0 | J71: 0 | K71: 0 | L71: =H71+I71+J71-K71 -> 927056 | M71: =G71-L71 -> 0
A74: Total | B74: =SUM(B67:B71) -> 7211494 | C74: =SUM(C67:C71) -> 0 | D74: =SUM(D67:D71) -> 12525600 | E74: =SUM(E67:E71) -> 0 | F74: =SUM(F67:F71) -> 0 | G74: =SUM(G67:G71) -> 19737094 | H74: =SUM(H67:H71) -> 1649616 | I74: =SUM(I67:I71) -> 914217 | ... M74: =SUM(M67:M71) -> 17173261
A80: 0

Sheet Notes
A1: =+BS!A1 -> 1908 E-Ventures Private Limited
A2: Notes forming part of the financial statements as at 31st March 2024
A3: =BS!A3 -> [Currency: Indian Rupees(Rs.'000)]
A5: 4 | B5: Right-of-use asset
B6: Particulars | C6: As at 31st March, 2024 | D6: As at 30th September, 2023 | E6: As at 31st March, 2023 | F6: As at 31st March, 2022
B7: Gross carrying value
B8: Opening balance | C8: =E11 -> 909392 | D8: =E11 -> 909392 | E8: =F11 -> 909392 | F8: 0 | H8: prev year | O8: =1/1000 -> 0.001
B9: Additions | C9: 0 | D9: 0 | E9: 0 | F9: =ROUND(909392.036063111,) -> 909392 | H9: as per bs
B10: Disposals | C10: =C8 -> 909392 | D10: =D8 -> 909392 | E10: 0 | F10: 0 | H10: as per bs
B11: Closing carrying value | C11: =SUM(C8+C9-C10) -> 0 | D11: =SUM(D8+D9-D10) -> 0 | E11: =SUM(E8+E9-E10) -> 909392 | F11: =SUM(F8+F9-F10) -> 909392 | H11: as per bs
B13: Accumulated amortisation | H13: working ind as | J13: =+F14-F13 -> 0 | K13: =+G14-G13 -> 0
B14: Opening balance | C14: =E17 -> 339673 | D14: =E17 -> 339673 | E14: =F17 -> 36542 | F14: 0
B15: Amortisation during the year | C15: =ROUND('PL Grouping'!K260,) -> 0 | D15: =ROUND('PL Grouping'!AC260,) -> 0 | E15: =ROUND('PL Grouping'!AL260,) -> 303131 | F15: 36542
B16: Disposals | C16: =C14+C15 -> 339673 | D16: =D14 -> 339673 | E16: 0 | F16: 0 | H16: as per bs | J16: =+J13-F16 -> 0 | K16: =+K13-G16 -> 0 | L16: =+J16-K16 -> 0 | M16: xx | N16: =C8-C16 -> 569719
B17: Closing balance | C17: =SUM(C14+C15-C16) -> 0 | D17: =SUM(D14+D15-D16) -> 0 | E17: =SUM(E14+E15-E16) -> 339673 | F17: =SUM(F14+F15-F16) -> 36542
B18: Closing carrying value | C18: =+C11-C17 -> 0 | D18: =+D11-D17 -> 0 | E18: =+E11-E17 -> 569719 | F18: =+F11-F17 -> 872850
B19: *Company has cancelled its lease during the year.
A20: =+A5+1 -> 5 | B20: Deferred tax Assets (Net)
B21: Particulars | C21: =C6 -> As at 31st March, 2024 | D21: =D6 -> As at 30th September, 2023 | E21: =E6 -> As at 31st March, 2023 | F21: =F6 -> As at 31st March, 2022
B22: Deferred tax asset arising on account of (A)
B23: Opening DTA | C23: =+E33 -> 7416129 | D23: =+E33 -> 7416129 | E23: =+F33 -> 8165446 | F23: 8165446 | H23: prev year | O23: =1/1000 -> 0.001
B24: Timing difference between book depreciation and depreciation as per Income Tax Act ,1961 | C24: =ROUND(PL!D26,) -> -7416129 | D24: =ROUND(PL!E26,) -> -7416129 | E24: =ROUND(PL!F26,) -> -749317 | F24: 0 | H24: as per bs | M24: xx
B25: Employees benefit expenses | C25: 0 | D25: 0 | E25: 0 | F25: 0 | H25: as per bs
B26: Brought forward depreciation / Unabsorbed losses | C26: 0 | D26: 0 | E26: 0 | F26: 0 | H26: as per bs
B27: Preliminary expenses | C27: =+'Deferred tax 19-20'!E22*0 -> 0 | D27: =+'Deferred tax 19-20'!F22*0 -> 0 | E27: =+'Deferred tax 19-20'!G22*0 -> 0 | F27: 0
B28: Others | C28: =+PL!C32 -> 0 | D28: =+PL!E32 -> 0 | E28: =+PL!F32 -> 0 | F28: 0 | H28: working ind as | J28: =+F29-F28 -> 8165446 | K28: =+G29-G28 -> 0
C29: =SUM(C23:C28) -> 0 | D29: =SUM(D23:D28) -> 0 | E29: =SUM(E23:E28) -> 7416129 | F29: =SUM(F23:F28) -> 8165446
B30: Deferred tax liability arising on account of (B)
B31: Others | C31: =C29 -> 0 | D31: 0 | E31: 0 | F31: 0 | H31: as per bs | J31: =+J28-F31 -> 8165446 | K31: =+K28-G31 -> 0 | L31: =+J31-K31 -> 8165446
B33: Total | C33: =C29-SUM(C31:C31) -> 0 | D33: =D29-SUM(D31:D31) -> 0 | E33: =E29-SUM(E31:E31) -> 7416129 | F33: =F29-SUM(F31:F31) -> 8165446
B35: The Company has not recognized deferred tax asset on unabsorbed depreciation & carried forward business losses under tax laws and other temporary differences in view that it not probable that taxable profits will be available against which the deductible temporary differences can be utilized. Unused tax losses, unabsorbed depreciation and temporary differences on which no deferred tax asset is recognised in Balance Sheet.
B36: Particulars | C36: =+C21 -> As at 31st March, 2024 | D36: =+D21 -> As at 30th September, 2023 | E36: =+E21 -> As at 31st March, 2023 | F36: =+F21 -> As at 31st March, 2022 | O36: Needs to be seen
B37: Deferred tax asset arising on account of (A)
B38: Unabsorbed Tax depreciation | C38: =ROUND('Deferred tax 23-24'!F14,)*0 -> 0 | D38: =ROUND(E38-'Deferred tax 21-22'!E14,) -> -220856 | E38: =ROUND(F38-'Deferred tax 21-22'!F14,) -> 61414 | F38: ='Deferred tax 21-22'!E14 -> 282270 | H38: prev year | O38: -1038850
B39: Unused Tax Losses | C39: =ROUND('Deferred tax 23-24'!E52,) -> 52551623 | D39: =ROUND('Deferred tax 22-23'!D52,) -> 246193109 | E39: =ROUND('Deferred tax 22-23'!E52,) -> 56378222 | F39: ='Deferred tax 21-22'!E50 -> 39313744 | H39: as per bs | O39: 17539614
B40: Temporary differences | C40: =ROUND('Deferred tax 23-24'!E27,0) -> 0 | D40: =ROUND('Deferred tax 22-23'!D27,0) -> 2392387 | E40: =ROUND('Deferred tax 22-23'!E27,0) -> 547857 | F40: ='Deferred tax 21-22'!E27 -> 409978 | H40: as per bs | O40: 250872
B41: Remeasurement of net defined benefit liability (OCI) | C41: =-ROUND(PL!E31*'Deferred tax 19-20'!$J$15%,0)*0 -> 0 | D41: =-ROUND(PL!E31*'Deferred tax 19-20'!$J$15%,0)*0 -> 0 | E41: =-ROUND(PL!F31*'Deferred tax 19-20'!$J$15%,0)*0 -> 0 | F41: =-ROUND(PL!G31*'Deferred tax 19-20'!$J$15%,0)*0 -> 0 | O41: -8388
B43: Total | C43: =SUM(C38:C42) -> 52551623 | D43: =SUM(D38:D42) -> 248364640 | E43: =SUM(E38:E42) -> 56987493 | F43: =SUM(F38:F42) -> 40005992
B44: Unabsorbed depreciation does not have any expiry period under the Income Tax Act, 1961.
B45: The tax benefits for the losses would expire if not utilised starting from financial year 2023-24 to 2030-31
...

Sheet FA sep
A1: =+[73]BS!A1 -> 1908 E-Ventures Private Limited
A2: Notes forming part of the financial statements
A3: =[73]BS!A3 -> [Currency: Indian Rupees(Rs.'000)] | G3: 367413 | I3: 17488
G4: 34968 | I4: 237515
A5: 3. Property Plant & Equipment | B5: =B23-H23 -> 989258 | F5: =G5-F19 -> 353152 | G5: =SUM(G3:G4) -> 402381 | I5: =SUM(I3:I4) -> 255003 | J5: =I5-K19 -> 229322
B7: Gross block - at cost | H7: Depreciation/ Amortisation | M7: Net block
B8: As at | C8: GAAP | G8: As at | H8: As at | I8: For the | L8: As at | M8: As at
A9: Particulars | B9: 1 April 2023 | C9: Adjustments | D9: Additions | E9: Adjustments | F9: Deductions | G9: 30 September 2023 | H9: 1 April 2023 | I9: Period | J9: Adjustments | K9: Deductions | L9: 30 September 2023 | M9: 30 September 2023
A11: Tangible assets
A13: Computers | B13: 1890584 | F13: =195953.39*0+353152 -> 353152 | G13: =B13+D13-F13+E13 -> 1537432 | H13: 1259398 | I13: =157789 -> 157789 | K13: =147836*0+229322-17488+26645 -> 238479 | L13: =H13+I13+J13-K13 -> 1178708 | M13: =G13-L13 -> 358724 | N13: ='[73]PL Grouping'!K342 -> 26645
A15: Furniture and fixtures | B15: 1176372 | F15: 0 | G15: =B15+D15-F15+E15 -> 1176372 | H15: 1023543 | I15: 22389 | K15: 0 | L15: =H15+I15+J15-K15 -> 1045932 | M15: =G15-L15 -> 130440
A17: Electrical installations | B17: 187694 | F17: 0 | G17: =B17+D17-F17+E17 -> 187694 | H17: 165213 | I17: 2910 | K17: 0 | L17: =H17+I17+J17-K17 -> 168123 | M17: =G17-L17 -> 19571
A19: Office equipments | B19: 889490 | F19: 49229 | G19: =B19+D19-F19+E19 -> 840261 | H19: 706718 | I19: 31913 | K19: 25681 | L19: =H19+I19+J19-K19 -> 712950 | M19: =G19-L19 -> 127311 | O19: 15906 | P19: Extra Entry
O21: 28000 | P21: Extra Entry
A23: Total | B23: =SUM(B13:B20)-10 -> 4144130 | C23: =SUM(C13:C20) -> 0 | D23: =SUM(D13:D20) -> 0 | E23: =SUM(E13:E20) -> 0 | F23: =SUM(F13:F20) -> 402381 | G23: =SUM(G13:G20)-10 -> 3741749 | H23: =SUM(H13:H20) -> 3154872 | I23: =SUM(I13:I20) -> 215001 | J23: =SUM(J13:J20) -> 0 | K23: =SUM(K13:K20) -> 264160 | L23: =SUM(L13:L20) -> 3105713 | M23: =SUM(M13:M20)-10 -> 636036 | N23: =M23+M58 -> 13941640 | O23: 15467932
N25: =F23-F25 -> 402381 | O25: =N23-O23 -> -1526291.5
B26: Gross block - at cost | H26: Depreciation/ Amortisation | M26: Net block
B27: As at | C27: GAAP | G27: As at | H27: As at | I27: For the | L27: As at | M27: As at
A28: Particulars | B28: 1 April 2022 | C28: Adjustments | D28: Additions | E28: Adjustments | F28: Deductions | G28: 31 March 2023 | H28: 1 April 2022 | I28: Period | J28: Adjustments | K28: Deductions | L28: 31 March 2023 | M28: 31 March 2023
A30: Tangible assets
A32: Computers | B32: 1354117 | D32: 705874 | E32: 0 | F32: 169407 | G32: 1890584 | H32: 781244 | I32: 604793 | J32: 0 | K32: 126639 | L32: 1259398 | M32: 631186
A34: Furniture and fixtures | B34: 1065072 | D34: 111300 | E34: 0 | F34: 0 | G34: 1176372 | H34: 888571 | I34: 134972 | J34: 0 | K34: 0 | L34: 1023543 | M34: 152829
A36: Electrical installations | B36: 187694 | D36: 0 | E36: 0 | F36: 0 | G36: 187694 | H36: 157361 | I36: 7852 | J36: 0 | K36: 0 | L36: 165213 | M36: 22481
A38: Office equipments | B38: 749321 | D38: 140169 | E38: 0 | F38: 0 | G38: 889490 | H38: 567317 | I38: 139401 | J38: 0 | K38: 0 | L38: 706718 | M38: 182772 | O38: 15906 | P38: Extra Entry
A42: Total | B42: =SUM(B32:B39) -> 3356204 | C42: =SUM(C32:C39) -> 0 | D42: =SUM(D32:D39) -> 957343 | E42: =SUM(E32:E39) -> 0 | F42: =SUM(F32:F39) -> 169407 | G42: =SUM(G32:G39) -> 4144140 | H42: =SUM(H32:H39) -> 2394493 | I42: =SUM(I32:I39) -> 887018 | ... M42: =SUM(M32:M39) -> 989268
B44: Gross block - at cost | H44: Depreciation/ Amortisation | M44: Net block
B45: As at | C45: GAAP | G45: As at | H45: As at | I45: For the | L45: As at | M45: As at
A46: Particulars | B46: =+B9 -> 1 April 2023 | C46: Adjustments | D46: Additions | E46: Adjustments | F46: Deductions | G46: =+G9 -> 30 September 2023 | H46: =+H9 -> 1 April 2023 | I46: year | J46: Adjustments | K46: Deductions | L46: =+L9 -> 30 September 2023 | M46: =+M9 -> 30 September 2023
A49: Intangible assets
A51: Computer software | B51: 420938 | C51: - | D51: 0 | E51: 0 | F51: 0 | G51: =B51+D51+E51-F51 -> 420938 | H51: 298043 | I51: =13680 -> 13680 | J51: 0 | K51: 0 | L51: =H51+I51+J51-K51 -> 311723 | M51: =G51-L51 -> 109215
A53: Brand acquisition | B53: 18525600 | D53: 0 | E53: 0 | F53: 0 | G53: =B53+D53+E53-F53 -> 18525600 | H53: 4003208 | I53: =1326012.5 -> 1326012.5 | J53: 0 | K53: 0 | L53: =H53+I53+J53-K53 -> 5329220.5 | M53: =G53-L53 -> 13196380
A55: Website Development | B55: 927056 | C55: - | D55: 0 | E55: 0 | F55: 0 | G55: =B55+D55+E55-F55 -> 927056 | H55: 927056 | I55: 0 | J55: 0 | K55: 0 | L55: =H55+I55+J55-K55 -> 927056 | M55: =G55-L55 -> 0
A58: Total | B58: =SUM(B51:B55)+10 -> 19873604 | C58: =SUM(C51:C55) -> 0 | D58: =SUM(D51:D55) -> 0 | E58: =SUM(E51:E55) -> 0 | F58: =SUM(F51:F55) -> 0 | G58: =SUM(G51:G55)+10 -> 19873604 | H58: =SUM(H51:H55) -> 5228307 | I58: =SUM(I51:I55) -> 1339692.5 | J58: =SUM(J51:J55) -> 0 | K58: =SUM(K51:K55) -> 0 | L58: =SUM(L51:L55) -> 6567999.5 | M58: =SUM(M51:M55)+10 -> 13305604
B60: Gross block - at cost | H60: Depreciation/Amortisation | M60: Net block
B61: As at | C61: GAAP | G61: As at | H61: As at | I61: For the | L61: As at | M61: As at
A62: Particulars | B62: =+B28 -> 1 April 2022 | C62: Adjustments | D62: Additions | E62: Adjustments | F62: Deductions | G62: =+G28 -> 31 March 2023 | H62: =+H28 -> 1 April 2022 | I62: year | J62: Adjustments | K62: Deductions | L62: =+L28 -> 31 March 2023 | M62: =+M28 -> 31 March 2023
A65: Intangible assets
A67: Computer software | B67: 284438 | C67: - | D67: 136500 | E67: 0 | F67: 0 | G67: 420938 | H67: 278349 | I67: 19694 | J67: 0 | K67: 0 | L67: 298043 | M67: 122895
A69: Brand acquisition | B69: 18525600 | D69: 0 | E69: 0 | F69: 0 | G69: 18525600 | H69: 1358428 | I69: 2644780 | J69: 0 | K69: 0 | L69: 4003208 | M69: 14522392
